BEGIN:VCALENDAR
VERSION:2.0
PRODID:-//ChamberMaster//Event Calendar 2.0//EN
METHOD:PUBLISH
X-PUBLISHED-TTL:P3D
REFRESH-INTERVAL:P3D
CALSCALE:GREGORIAN
BEGIN:VEVENT
DTSTART:20200625T170000Z
DTEND:20200625T180000Z
X-MICROSOFT-CDO-ALLDAYEVENT:FALSE
SUMMARY:Virtual Women in Networking: "The Princess and The Salt"
DESCRIPTION:Welcome Back\, Grab Your Lunch and Join Us for\n\nLIVE VIRTUAL Women in Networking (WIN)!\n \n\nThe Prattville Area Chamber of Commerce and our partners at Troy University Continuing Education and Outreach\, are delighted to bring Women In Networking (WIN) VIRTUALLY as an alternative way to connect with women in your local community! Connect online from the comfort of your own home with all the usual benefits of your Women In Networking experience.   \n\n \n\nOur first VIRTUAL WIN Session presents a highly interactive virtual lunch session led by master training and motivational presenter Michael Jackson. Through a fun and engaging experience\, he will unfold the power of your influence on others at work and the overall environment.\n\n\n\nJust as salt adds flavor to our food\, so our influence as leaders can change our office\, company and relationships. Log in and be empowered by the insight and wisdom of Michael Jackson as he helps us recall lessons from within a delightful story from our childhood- "The Princess and the Salt".  Examining ourselves as leaders and projecting our influence in the workplace can be tricky. If we are not careful\, it may come off as aggressiveness\, control\, or manipulation. Examining our influence daily in the office and with customers and how we exercise that influence\, will allow us to succeed in relationships\, performance and execution.\n\n\n\nMichael Jackson is an entertaining presenter who provides insights and wisdom to audiences across the nation. You do not want to miss this VIRTUAL WIN one-hour session!
X-ALT-DESC;FMTTYPE=text/html:<div style="text-align: center\;"><span style="font-size:20px\;"><strong>Welcome Back\, Grab Your Lunch and Join Us for<br />\nLIVE VIRTUAL <span style="color:#FF0000\;">Women in Networking (WIN)</span>!</strong></span></div>\n&nbsp\;<br />\nThe Prattville Area Chamber of Commerce and our partners at Troy University Continuing Education and Outreach\, are delighted to bring Women In Networking (WIN) VIRTUALLY as an alternative way to connect with women in your local community! Connect online from the comfort of your own home with all the usual benefits of your Women In Networking experience. &nbsp\;&nbsp\;<br />\n&nbsp\;<br />\nOur first VIRTUAL WIN Session presents a highly interactive virtual lunch session led by master training and motivational presenter Michael Jackson. Through a fun and engaging experience\, he will unfold the power of your influence on others at work and the overall environment.<br />\n<br />\nJust as salt adds flavor to our food\, so our influence as leaders can change our office\, company and relationships. Log in and be empowered by the insight and wisdom of Michael Jackson as he helps us recall lessons from within a delightful story from our childhood- <em><strong>&ldquo\;The Princess and the Salt&rdquo\;</strong></em>. &nbsp\;Examining ourselves as leaders and projecting our influence in the workplace can be tricky. If we are not careful\, it may come off as aggressiveness\, control\, or manipulation. Examining our influence daily in the office and with customers and how we exercise that influence\, will allow us to succeed in relationships\, performance and execution.<br />\n<br />\n<em><strong>Michael Jackson is an entertaining presenter who provides insights and wisdom to audiences across the nation. You do not want to miss this VIRTUAL WIN one-hour session!&nbsp\;</strong></em>
LOCATION:Online
UID:e.1954.1851
SEQUENCE:3
DTSTAMP:20260426T040316Z
URL:https://online.prattvillechamber.com/events/details/virtual-women-in-networking-the-princess-and-the-salt-1851
END:VEVENT

END:VCALENDAR
