BEGIN:VCALENDAR
VERSION:2.0
PRODID:-//ChamberMaster//Event Calendar 2.0//EN
METHOD:PUBLISH
X-PUBLISHED-TTL:P3D
REFRESH-INTERVAL:P3D
CALSCALE:GREGORIAN
BEGIN:VEVENT
DTSTART:20230414T230000Z
DTEND:20230415T010000Z
X-MICROSOFT-CDO-ALLDAYEVENT:FALSE
SUMMARY:The Perfect Pour 2023
DESCRIPTION:Wine and craft beer tasting\, local restaurants\, live entertainment and more!!\n\n\n\nCome join us at Historic Downtown Prattville for a night of fun!! Tickets will be $25 online and $30 at the gate. Proceeds will benefit a local charity!!\n\n\n\nClick here to purchase a ticket!\n\n\n\n\n\nMember login information is not available. If you are a member click the blue "register now" button and use the "Not a Member" link in the upper right side of the page to complete your online registration. You may also register by clicking the link below:
X-ALT-DESC;FMTTYPE=text/html:<br />\n<br />\n<span style="font-size:18px\;"><span style="font-size:28px\;"><span style="font-family:comic sans ms\;">Wine and craft beer tasting\, local restaurants\, live entertainment and more!!<br />\n<br />\nCome join us at Historic Downtown Prattville for a night of fun!! Tickets will be $25 online and $30 at the gate. <strong><u>Proceeds will benefit a local charity!!</u></strong></span></span><br />\n<br />\n<span style="font-size:24px\;"><a href="https://prattvillechamber.chambermaster.com/eventregistration/register/2056"><span style="color:#FF0000\;">Click here to purchase a ticket!</span></a></span></span><br />\n<br />\n<br />\n<span style="font-size:24px\;"><span style="box-sizing: border-box\; font-family: arial\; color: rgb(255\, 0\, 0)\;" tabindex="0"><span style="box-sizing: border-box\; font-weight: bolder\;">Member login information is not available. If you are a member click the blue &quot\;</span></span><span style="box-sizing: border-box\; font-weight: bolder\; color: rgb(68\, 68\, 68)\; font-family: arial\;"><a href="https://prattvillechamber.chambermaster.com/eventregistration/register/2056" style="box-sizing: border-box\; color: rgb(42\, 54\, 128)\; text-decoration-line: none\; background-color: transparent\; overflow-wrap: break-word\;" tabindex="0"><span style="box-sizing: border-box\; color: rgb(0\, 0\, 255)\;" tabindex="0">register now</span></a></span><span style="box-sizing: border-box\; font-family: arial\; color: rgb(255\, 0\, 0)\;" tabindex="0"><span style="box-sizing: border-box\; font-weight: bolder\;">&quot\; button and use the &quot\;<u style="box-sizing: border-box\;">Not a Member</u>&quot\; link in the upper right side of the page to complete your online registration. You may also register by clicking the link below:</span></span></span>
LOCATION:Historic Downtown Prattville Spillway Park
UID:e.1954.2056
SEQUENCE:3
DTSTAMP:20260423T202432Z
URL:https://online.prattvillechamber.com/events/details/the-perfect-pour-2023-2056
END:VEVENT

END:VCALENDAR
