BEGIN:VCALENDAR
VERSION:2.0
PRODID:-//ChamberMaster//Event Calendar 2.0//EN
METHOD:PUBLISH
X-PUBLISHED-TTL:P3D
REFRESH-INTERVAL:P3D
CALSCALE:GREGORIAN
BEGIN:VEVENT
DTSTART;VALUE=DATE:20230510
DTEND;VALUE=DATE:20230512
TRANSP:TRANSPARENT
X-MICROSOFT-CDO-ALLDAYEVENT:TRUE
SUMMARY:The Marlon & Marcus Foundation Third Annual Celebrity Golf Classic
DESCRIPTION:The Prattville Area Chamber of Commerce is proud to partner with The Marlon & Marcus Foundation for their Third Annual Celebrity Golf Classic at RTJ at Capitol Hill on May 10-11\, 2023.\n\nProceeds will benefit the foundation's efforts to build a multi-purpose community center on the original site of Prattville's Historic North Highland High School.\n\nThere are many ways to support this great cause. You can attend the All-Star Pairings Party\, participate as a golfer or become a sponsor. For more information\, please call 310.600.8917 or email info@marlonandmarcusfoundation.com!\n\n To learn more\, please click here.
X-ALT-DESC;FMTTYPE=text/html:<div class="kvgmc6g5 cxmmr5t8 oygrvhab hcukyx3x c1et5uql ii04i59q" color:="" font-size:="" segoe="" style="overflow-wrap: break-word\; margin: 0px\; white-space: pre-wrap\; font-family: " ui="">\n<div dir="auto" style="font-family: inherit\;"><span style="font-size:18px\;"><strong>The Prattville Area Chamber of Commerce is proud to partner with The <span style="font-family: inherit\;"><a class="oajrlxb2 g5ia77u1 qu0x051f esr5mh6w e9989ue4 r7d6kgcz rq0escxv nhd2j8a9 nc684nl6 p7hjln8o kvgmc6g5 cxmmr5t8 oygrvhab hcukyx3x jb3vyjys rz4wbd8a qt6c0cv9 a8nywdso i1ao9s8h esuyzwwr f1sip0of lzcic4wl gpro0wi8 q66pz984 b1v8xokw" href="https://www.facebook.com/MarlonMarcusFoundation/?__cft__[0]=AZWhKZIHRWgiy03iUIgaOIx65IWSOn2DVY6n3R87bEHB-Rc7bIbtNYL1HmcCvQNwAmAjsDURtfzXTKGEkoJKWa5fTqJGUM2wGY8Rbnnmo3DWwAYbzsCHEdGTdGUSzOP05OSgTcREX4DBwVXtrfFSilPwX0wIupPsWaXEB_MWZ_u4cfkH72axHrT48ZSopH51KLE&amp\;__tn__=kK-R" role="link" style="color: var(--accent)\; cursor: pointer\; text-decoration-line: none\; outline: none\; list-style: none\; border-width: 0px\; border-style: initial\; border-color: initial\; padding: 0px\; margin: 0px\; touch-action: manipulation\; background-color: transparent\; text-align: inherit\; display: inline\; -webkit-tap-highlight-color: transparent\; box-sizing: border-box\; font-family: inherit\;" tabindex="0"><span class="nc684nl6" style="display: inline\; font-family: inherit\;">Marlon &amp\; Marcus Foundation</span></a></span> for their Third Annual Celebrity Golf Classic at <span style="font-family: inherit\;"><a class="oajrlxb2 g5ia77u1 qu0x051f esr5mh6w e9989ue4 r7d6kgcz rq0escxv nhd2j8a9 nc684nl6 p7hjln8o kvgmc6g5 cxmmr5t8 oygrvhab hcukyx3x jb3vyjys rz4wbd8a qt6c0cv9 a8nywdso i1ao9s8h esuyzwwr f1sip0of lzcic4wl gpro0wi8 q66pz984 b1v8xokw" href="https://www.facebook.com/RTJCapitolHill/?__cft__[0]=AZWhKZIHRWgiy03iUIgaOIx65IWSOn2DVY6n3R87bEHB-Rc7bIbtNYL1HmcCvQNwAmAjsDURtfzXTKGEkoJKWa5fTqJGUM2wGY8Rbnnmo3DWwAYbzsCHEdGTdGUSzOP05OSgTcREX4DBwVXtrfFSilPwX0wIupPsWaXEB_MWZ_u4cfkH72axHrT48ZSopH51KLE&amp\;__tn__=kK-R" role="link" style="color: var(--accent)\; cursor: pointer\; text-decoration-line: none\; outline: none\; list-style: none\; border-width: 0px\; border-style: initial\; border-color: initial\; padding: 0px\; margin: 0px\; touch-action: manipulation\; background-color: transparent\; text-align: inherit\; display: inline\; -webkit-tap-highlight-color: transparent\; box-sizing: border-box\; font-family: inherit\;" tabindex="0"><span class="nc684nl6" style="display: inline\; font-family: inherit\;">RTJ at Capitol Hill</span></a></span> on May 10-11\, 2023.</strong></span><br />\nProceeds will benefit the foundation&#39\;s efforts to build a multi-purpose community center on the original site of Prattville&rsquo\;s Historic North Highland High School.<br />\nThere are many ways to support this great cause. You can attend the All-Star Pairings Party\, participate as a golfer or become a sponsor. For more information\, please call<tcxspan tcxhref="3106008917" title="Call  310.600.8917  via 3CX"> 310.600.8917 </tcxspan>or email info@marlonandmarcusfoundation.com!<br />\n<span style="color:#FF0000\;"><span style="white-space: pre-wrap\;">&#8203\;</span></span><strong style="white-space: pre-wrap\;"><span style="color:#FF0000\;">To learn more\, please</span><a href="https://www.marlonandmarcusfoundation.org/2023golf"> </a><a href="https://www.marlonandmarcusfoundation.org/2022golf">click here</a>.</strong></div>\n</div>\n
LOCATION:2600 Constitution Avenue Prattville\, AL 36066
UID:e.1954.2064
SEQUENCE:3
DTSTAMP:20260423T200537Z
URL:https://online.prattvillechamber.com/events/details/the-marlon-marcus-foundation-third-annual-celebrity-golf-classic-2064
END:VEVENT

END:VCALENDAR
