BEGIN:VCALENDAR
VERSION:2.0
PRODID:-//ChamberMaster//Event Calendar 2.0//EN
METHOD:PUBLISH
X-PUBLISHED-TTL:P3D
REFRESH-INTERVAL:P3D
CALSCALE:GREGORIAN
BEGIN:VEVENT
DTSTART:20230207T140000Z
DTEND:20230207T150000Z
X-MICROSOFT-CDO-ALLDAYEVENT:FALSE
SUMMARY:Sunnyside Tips | New Prattville Career Center
DESCRIPTION:Central Alabama Community College is pleased to host a new Career Center office at their Prattville campus!\n\n\n\nLocal centers work with employers to locate employees with specific skills to consolidate the delivery of services at a single location.\n\n\n\nCareer Centers offer job search and development\, occupational and educational training\, vocational rehabilitation\, veterans' services\, and unemployment insurance information.
X-ALT-DESC;FMTTYPE=text/html:<br />\n<br />\n<span style="font-size:14px\;">Central Alabama Community College is pleased to host a new Career Center office at their Prattville campus!<br />\n<br />\nLocal centers work with employers to locate employees with specific skills to consolidate the delivery of services at a single location.<br />\n<br />\nCareer Centers offer job search and development\, occupational and educational training\, vocational rehabilitation\, veterans&#39\; services\, and unemployment insurance information.</span>
LOCATION:1320 Old Ridge Road in Prattville
UID:e.1954.2038
SEQUENCE:3
DTSTAMP:20260423T234325Z
URL:https://online.prattvillechamber.com/events/details/sunnyside-tips-new-prattville-career-center-2038
END:VEVENT

END:VCALENDAR
