BEGIN:VCALENDAR
VERSION:2.0
PRODID:-//ChamberMaster//Event Calendar 2.0//EN
METHOD:PUBLISH
X-PUBLISHED-TTL:P3D
REFRESH-INTERVAL:P3D
CALSCALE:GREGORIAN
BEGIN:VEVENT
DTSTART:20220719T223000Z
DTEND:20220720T000000Z
X-MICROSOFT-CDO-ALLDAYEVENT:FALSE
SUMMARY:Shades of Ireland | Collette Tours Interest Meeting
DESCRIPTION:Would you like to take an amazing vacation in the spring of 2023? Join the Prattville Area Chamber of Commerce and Collette Tours on a trip of a lifetime! The Prattville Chamber is hosting an interest meeting for the Shades of Ireland on July 19 at 5:30 P.M. The meeting will take place at the Chamber office\, located at 131 North Court Street in Prattville. \n\n\n\nFrom history-filled Dublin to the rolling green hills and dramatic coast\, experience Ireland's charms on a journey through the Emerald Isle. Choose how you explore the city of Dublin. Kiss the Blarney Stone at historic Blarney Castle. See Killarney from an Irish jaunting car. Pick from a selection of the best restaurants with our Diner's Choice program. Experience the world-famous beauty of the Ring of Kerry. See border collies in action during a traditional sheepdog demonstration. Stand in awe at the top of the stunning 700-foot Cliffs of Moher. Live like royalty during an overnight stay on the grounds of a castle. A vibrant blend of captivating culture and stunning nature\, this is the Ireland you've always imagined. This trip is open to the public!\n\n\n\nFor more information about the Shades of Ireland itinerary\, please click here.\n\n\n\nQuestions regarding the interest meeting? Please contact the Prattville Area Chamber of Commerce at 334.365.7392.
X-ALT-DESC;FMTTYPE=text/html:<span style="font-family:arial\;"><span style="font-size:14px\;"><span style="font-size:18px\;"><strong><span style="color:#000000\;"><span style="white-space: pre-wrap\;">Would you like to take an amazing vacation in the spring of 2023? Join the </span></span><span style="white-space: pre-wrap\;"><a class="oajrlxb2 g5ia77u1 qu0x051f esr5mh6w e9989ue4 r7d6kgcz rq0escxv nhd2j8a9 nc684nl6 p7hjln8o kvgmc6g5 cxmmr5t8 oygrvhab hcukyx3x jb3vyjys rz4wbd8a qt6c0cv9 a8nywdso i1ao9s8h esuyzwwr f1sip0of lzcic4wl gpro0wi8 q66pz984 b1v8xokw" href="https://www.facebook.com/prattvillechamber/?__cft__[0]=AZXGKTQoUZ0APfi7xsaGSdFub6JPMpCYd7SndPcb-gfhPHBy5PzkBPQCONQkbd9BS9d6fWyNiXbLX0pdMsGUBPof_k1enw9pqvHA0JRZe6kAUwLXH8KOvrsfLoDBD6x2Ox4&amp\;__tn__=kK-R" role="link" style="color: var(--accent)\; cursor: pointer\; text-decoration-line: none\; outline: none\; list-style: none\; border-width: 0px\; border-style: initial\; border-color: initial\; padding: 0px\; margin: 0px\; touch-action: manipulation\; background-color: transparent\; text-align: inherit\; display: inline\; -webkit-tap-highlight-color: transparent\; box-sizing: border-box\; font-family: inherit\;" tabindex="0"><span style="color:#000000\;"><span class="nc684nl6" style="display: inline\;">Prattville Area Chamber of Commerce</span></span></a></span><span style="color:#000000\;"><span style="white-space: pre-wrap\;"> and </span></span></strong></span><span style="white-space: pre-wrap\;"><span style="font-size:18px\;"><strong><a class="oajrlxb2 g5ia77u1 qu0x051f esr5mh6w e9989ue4 r7d6kgcz rq0escxv nhd2j8a9 nc684nl6 p7hjln8o kvgmc6g5 cxmmr5t8 oygrvhab hcukyx3x jb3vyjys rz4wbd8a qt6c0cv9 a8nywdso i1ao9s8h esuyzwwr f1sip0of lzcic4wl gpro0wi8 q66pz984 b1v8xokw" href="https://www.facebook.com/GoCollette/?__cft__[0]=AZXGKTQoUZ0APfi7xsaGSdFub6JPMpCYd7SndPcb-gfhPHBy5PzkBPQCONQkbd9BS9d6fWyNiXbLX0pdMsGUBPof_k1enw9pqvHA0JRZe6kAUwLXH8KOvrsfLoDBD6x2Ox4&amp\;__tn__=kK-R" role="link" style="color: var(--accent)\; cursor: pointer\; text-decoration-line: none\; outline: none\; list-style: none\; border-width: 0px\; border-style: initial\; border-color: initial\; padding: 0px\; margin: 0px\; touch-action: manipulation\; background-color: transparent\; text-align: inherit\; display: inline\; -webkit-tap-highlight-color: transparent\; box-sizing: border-box\; font-family: inherit\;" tabindex="0"><span style="color:#000000\;"><span class="nc684nl6" style="display: inline\;">Collette</span></span></a><span style="color:#000000\;"> Tours on a trip of a lifetime! </span></strong></span></span></span><span style="color:#000000\;"><span style="font-size:18px\;">The Prattville Chamber is hosting an interest meeting for the Shades of Ireland&nbsp\;on July 19 at 5:30 P.M. The meeting will take place at the Chamber office\, located at&nbsp\;</span></span><span style="font-size:16px\;"><span style="color:#000000\;"><span style="font-size:18px\;">131 North Court Street in Prattville.&nbsp\;</span><br />\n<br />\nFrom history-filled Dublin to the rolling green hills and dramatic coast\, experience Ireland&rsquo\;s charms on a journey through the Emerald Isle. Choose how you explore the city of Dublin. Kiss the Blarney Stone at historic Blarney Castle. See Killarney from an Irish jaunting car. Pick from a selection of the best restaurants with our <em>Diner&rsquo\;s Choice</em> program. Experience the world-famous beauty of the Ring of Kerry. See border collies in action during a traditional sheepdog demonstration. Stand in awe at the top of the stunning 700-foot Cliffs of Moher. Live like royalty during an overnight stay on the grounds of a castle. A vibrant blend of captivating culture and stunning nature\, this is the Ireland you&rsquo\;ve always imagined. This trip is open to the public!</span><br />\n<br />\n<a href="http://gateway.gocollette.com/link/1105158"><u><em><strong><span style="color:#FF0000\;">For more information about the Shades of Ireland itinerary\, please click </span></strong></em></u></a><u><em><strong><a href="http://gateway.gocollette.com/link/1105158"><span style="color:#FF0000\;">here</span></a></strong></em></u><a href="http://gateway.gocollette.com/link/1105158"><u><em><strong><span style="color:#FF0000\;">.</span></strong></em></u></a><br />\n<br />\n<span style="color:#000000\;">Questions regarding the interest meeting? Please contact the Prattville Area Chamber of Commerce at<tcxspan tcxhref="3343657392" title="Call  334.365.7392. via 3CX"> 334.365.7392.</tcxspan></span></span></span>
LOCATION:Prattville Area Chamber of Commerce 131 North Court Street Prattville\, AL 36066
UID:e.1954.1984
SEQUENCE:3
DTSTAMP:20260424T112235Z
URL:https://online.prattvillechamber.com/events/details/shades-of-ireland-collette-tours-interest-meeting-1984
END:VEVENT

END:VCALENDAR
