BEGIN:VCALENDAR
VERSION:2.0
PRODID:-//ChamberMaster//Event Calendar 2.0//EN
METHOD:PUBLISH
X-PUBLISHED-TTL:P3D
REFRESH-INTERVAL:P3D
CALSCALE:GREGORIAN
BEGIN:VEVENT
DTSTART:20230920T163000Z
DTEND:20230920T180000Z
X-MICROSOFT-CDO-ALLDAYEVENT:FALSE
SUMMARY:September Chamber Luncheon Sponsored by Prattville Baptist Hospital
DESCRIPTION:You're invited to join us for the September Chamber Luncheon sponsored by Prattville Baptist Hospital!\n\n\n\nGain a little knowledge while building your connections by joining the Prattville Area Chamber of Commerce and our members for the Chamber Champion Luncheon sponsored by Prattville Baptist Hospital. This event is a great opportunity to connect with other business leaders in the area and each month is educational and completely different. \n\nMake your reservation today and bring your business cards!\n\n\n\nMember login information is not available. If you are a member click the blue "register now" button and use the "Not a Member" link in the upper right side of the page to complete your online registration. You may also register by clicking the link below:\n\n\n\nClick here to register.\n\n\n\nTicket sales end at noon on September 18.
X-ALT-DESC;FMTTYPE=text/html:<p><span style="font-size: 16px\;"><span style="font-family: arial\;"><span style="font-size: 18px\;"><strong>You&#39\;re invited to join us for the September Chamber Luncheon sponsored by Prattville Baptist Hospital!</strong></span><br />\n<br />\n<span data-offset-key="3pg81-4-0" style="white-space: pre-wrap\;"><span data-text="true">Gain a little knowledge while building your connections by joining the Prattville Area Chamber of Commerce and our members for the Chamber Champion Luncheon sponsored by Prattville Baptist Hospital. This event is a great opportunity to connect with other business leaders in the area and each month is educational and completely different. </span></span></span></span></p>\n\n<p><span style="font-size: 16px\;"><span style="font-family: arial\; white-space: pre-wrap\;">Make your reservation today and b</span><em style="font-family: arial\;"><span style="font-style: normal\;">ring your business cards!</span></em></span><br />\n<br />\n<span style="font-family: arial\;"><span style="font-size: 16px\;"><strong><span style="color: rgb(255\, 0\, 0)\;">Member login information is not available. If you are a member click the blue</span>&nbsp\;&quot\;<u><a href="https://prattvillechamber.chambermaster.com/eventregistration/register/2091">register now</a></u>&quot\;&nbsp\;<span style="color: rgb(255\, 0\, 0)\;">button and use the &quot\;<u>Not a Member</u>&quot\; link in the upper right side of the page to complete your online registration. You may also register by clicking the link below:</span></strong><br />\n<br />\n<u><strong><a href="https://prattvillechamber.chambermaster.com/eventregistration/register/2091">Click here to register.</a></strong></u><br />\n<br />\n<span style="color: rgb(255\, 0\, 0)\;"><strong>Ticket sales end at noon&nbsp\;on September 18.</strong></span></span></span></p>\n
LOCATION:Marriott Legends 2500 Legends Circle Prattville\, AL 36066
UID:e.1954.2091
SEQUENCE:3
DTSTAMP:20260423T123419Z
URL:https://online.prattvillechamber.com/events/details/september-chamber-luncheon-sponsored-by-prattville-baptist-hospital-2091
END:VEVENT

END:VCALENDAR
