BEGIN:VCALENDAR
VERSION:2.0
PRODID:-//ChamberMaster//Event Calendar 2.0//EN
METHOD:PUBLISH
X-PUBLISHED-TTL:P3D
REFRESH-INTERVAL:P3D
CALSCALE:GREGORIAN
BEGIN:VEVENT
DTSTART:20211217T160000Z
DTEND:20211217T200000Z
X-MICROSOFT-CDO-ALLDAYEVENT:FALSE
SUMMARY:Senior Health Fair
DESCRIPTION:Come out to our Senior Health Fair on Dec. 17\, 2021 at the Prattville Area Chamber of Commerce! From 10:00-2:00 P.M.\, this free outside event will feature a variety of vendors. \n\n \n\nThe Prattville Chamber is excited to partner with Home Helpers and Baptist Health's Geriatric Behavioral Clinic for this event! Contact the Prattville Chamber to learn more.
X-ALT-DESC;FMTTYPE=text/html:<div style="color: rgb(0\, 0\, 161)\; font-family: Arial\, Verdana\, Helvetica\, sans-serif\; font-size: 12px\; white-space: pre-wrap\;"><span style="color:#000000\;"><span style="font-size:16px\;"><span style="font-weight: bold\;">Come out to our Senior Health Fair on Dec. 17\, 2021 at the Prattville Area Chamber of Commerce! From 10:00-2:00 P.M.\, this free outside event will feature a variety of vendors.</span><span style="font-weight: bold\;"> </span></span></span></div>\n\n<div style="color: rgb(0\, 0\, 161)\; font-family: Arial\, Verdana\, Helvetica\, sans-serif\; font-size: 12px\; white-space: pre-wrap\; text-align: center\;">&nbsp\;</div>\n\n<div style="color: rgb(0\, 0\, 161)\; font-family: Arial\, Verdana\, Helvetica\, sans-serif\; font-size: 12px\; white-space: pre-wrap\;"><span style="color:#000000\;"><span style="font-size: 14px\;">The Prattville Chamber is excited to partner with Home Helpers and Baptist Health&#39\;s Geriatric Behavioral Clinic for this event! Contact the Prattville Chamber to learn more. </span></span></div>\n
LOCATION:131 North Court Street Prattville\, AL 36067
UID:e.1954.1943
SEQUENCE:3
DTSTAMP:20260424T224224Z
URL:https://online.prattvillechamber.com/events/details/senior-health-fair-1943
END:VEVENT

END:VCALENDAR
