BEGIN:VCALENDAR
VERSION:2.0
PRODID:-//ChamberMaster//Event Calendar 2.0//EN
METHOD:PUBLISH
X-PUBLISHED-TTL:P3D
REFRESH-INTERVAL:P3D
CALSCALE:GREGORIAN
BEGIN:VEVENT
DTSTART:20230316T220000Z
DTEND:20230317T000000Z
X-MICROSOFT-CDO-ALLDAYEVENT:FALSE
SUMMARY:Schmooz·A·Palooza
DESCRIPTION:Mark your calendars for our 2023 Schmooz A Palooza! This community event is scheduled for March 16 from 5:00-7:00 P.M. at the Prattville Area Chamber of Commerce. We are located at 131 North Court Street\, Prattville\, AL 36067.\n\n\n\nIt will be a night of fun featuring a business expo\, membership appreciation cookout and open house! AND CELEBRATING OUR 50TH ANNIVERSARY!!\n\n\n\nWe will have hamburgers\, hotdogs\, drinks\, desserts\, birthday cake and more. Attendees will have an opportunity to win $250 and other door prizes. We ask that everyone bring a non-perishable food item to support the Autauga Interfaith Care Center.\n\n\n\nTo learn more\, please contact the Prattville Chamber team at mtrest@prattvillechamber.com.
X-ALT-DESC;FMTTYPE=text/html:<div style="">\n<div style=""><br />\n<br />\n<span style="font-size:22px\;"><span style="font-family:arial\;"><font color="#000000"><span style="white-space: pre-wrap\;"><b>Mark your calendars for our 2023 Schmooz&middot\;A&middot\;Palooza! This community event is scheduled for March 16 from 5:00-7:00 P.M. at the Prattville Area Chamber of Commerce. We are located at 131 North Court Street\, Prattville\, AL 36067.<br />\n<br />\nIt will be a night of fun featuring a business expo\, membership appreciation cookout and open house! </b></span></font><span style="color:#0000FF\;"><span style="white-space: pre-wrap\;"><b><u>AND CELEBRATING OUR 50TH ANNIVERSARY!!</u></b></span></span><br />\n<br />\n<strong>We will have hamburgers\, hotdogs\, drinks\, desserts\, birthday cake and more.&nbsp\;</strong></span><span style="color: rgb(0\, 0\, 0)\; font-family: Arial\, Verdana\, Helvetica\, sans-serif\; white-space: pre-wrap\; font-weight: bold\;"><span style="font-family:arial\;">Attendees will have an opportunity to win $250 and other door prizes. We ask that everyone bring a non-perishable food item to support the Autauga Interfaith Care Center.</span></span><br />\n<br />\n<strong><font color="#000000" face="Arial\, Verdana\, Helvetica\, sans-serif"><span style="white-space: pre-wrap\;">To learn more\, please contact the Prattville Chamber team at mtrest@prattvillechamber.com.</span></font></strong></span></div>\n</div>\n
LOCATION:131 North Court Street Prattville\, AL 36067
UID:e.1954.2039
SEQUENCE:3
DTSTAMP:20260423T220104Z
URL:https://online.prattvillechamber.com/events/details/schmooz-a-palooza-2039
END:VEVENT

END:VCALENDAR
