BEGIN:VCALENDAR
VERSION:2.0
PRODID:-//ChamberMaster//Event Calendar 2.0//EN
METHOD:PUBLISH
X-PUBLISHED-TTL:P3D
REFRESH-INTERVAL:P3D
CALSCALE:GREGORIAN
BEGIN:VEVENT
DTSTART:20220317T220000Z
DTEND:20220318T000000Z
X-MICROSOFT-CDO-ALLDAYEVENT:FALSE
SUMMARY:Schmooz·A·Palooza
DESCRIPTION:Mark your calendars for our 2022 Schmooz A Palooza! This community event is scheduled for March 17 from 5:00-7:00 P.M. at the Prattville Area Chamber of Commerce. We are located at 131 North Court Street\, Prattville\, AL 36067. It will be a night of fun featuring a business expo\, membership appreciation cookout and open house!\n\nAttendees will have an opportunity to win $250 and other door prizes. We ask that everyone bring a non-perishable food item to support the Autauga Interfaith Care Center.\n\nWe are now taking applications from Prattville Area Chamber of Commerce Members to be exhibitors through Friday\, March 11. There are limited slots\, so make sure you sign up quickly. We are excited for our Chamber Members to showcase what they offer to our community.\n\nTo learn more\, please contact the Prattville Chamber team at mtrest@prattvillechamber.com.\n\nClick here for the Schmooz-A-Palooza Exhibitor Application
X-ALT-DESC;FMTTYPE=text/html:<div style="color: rgb(0\, 0\, 0)\; font-family: Arial\, Verdana\, Helvetica\, sans-serif\; font-size: 14px\; white-space: pre-wrap\;">\n<div style="color: rgb(0\, 0\, 0)\; font-family: Arial\, Verdana\, Helvetica\, sans-serif\; font-size: 14px\; white-space: pre-wrap\;"><span style="font-weight: bold\;">Mark your calendars for our 2022 Schmooz&middot\;A&middot\;Palooza! This community event is scheduled for March 17 from 5:00-7:00 P.M. at the Prattville Area Chamber of Commerce. We are located at 131 North Court Street\, Prattville\, AL 36067. It will be a night of fun featuring a business expo\, membership appreciation cookout and open house!<br />\nAttendees will have an opportunity to win $250 and other door prizes. We ask that everyone bring a non-perishable food item to support the Autauga Interfaith Care Center.<br />\nWe are now taking applications from Prattville Area Chamber of Commerce Members to be exhibitors through Friday\, March 11.&nbsp\;</span>There are limited slots\, so make sure you sign up quickly. We are excited for our Chamber Members to showcase what they offer to our community.<br />\nTo learn more\, please contact the Prattville Chamber team at mtrest@prattvillechamber.com.<br />\n<a href="https://chambermaster.blob.core.windows.net/userfiles/UserFiles/chambers/1954/File/2022BusinessExpoApplicationcopy1.pdf"><span style="color:#0000CD\;"><strong>Click here for the Schmooz-A-Palooza Exhibitor Application</strong></span></a><br />\n<br />\n&nbsp\;</div>\n</div>\n
LOCATION:131 North Court Street Prattville\, AL 36067
UID:e.1954.1954
SEQUENCE:3
DTSTAMP:20260424T173908Z
URL:https://online.prattvillechamber.com/events/details/schmooz-a-palooza-1954
END:VEVENT

END:VCALENDAR
