BEGIN:VCALENDAR
VERSION:2.0
PRODID:-//ChamberMaster//Event Calendar 2.0//EN
METHOD:PUBLISH
X-PUBLISHED-TTL:P3D
REFRESH-INTERVAL:P3D
CALSCALE:GREGORIAN
BEGIN:VEVENT
DTSTART:20220915T150000Z
DTEND:20220915T153000Z
X-MICROSOFT-CDO-ALLDAYEVENT:FALSE
SUMMARY:Ribbon Cutting | Valerie Crabb - COUNTRY Financial
DESCRIPTION:Join the celebration on Thursday\, September 15\, at 10:00 A.M. to help us officially cut the ribbon for Valerie Crabb of COUNTRY Financial\, located at 139 South Court Street in Prattville. Ribbon cuttings are celebrations and show that Prattville and Autauga County are open for business!\n\n\n\nTo learn more about this local business\, please click here.\n\n\n\nFor more information\, please contact the Prattville Area Chamber of Commerce team at 334.365.7392. We hope to see you there!
X-ALT-DESC;FMTTYPE=text/html:<span style="font-size:16px\;"><span font-size:="" segoe="" style="box-sizing: border-box\; border: 0px solid rgb(51\, 51\, 51)\; font-weight: bolder\; -webkit-font-smoothing: antialiased\; -webkit-tap-highlight-color: transparent\; outline: 0px\; color: rgb(5\, 5\, 5)\; font-family: " ui="" white-space:="">Join the celebration on Thursday\, September 15\, at 10:00 A.M. to help us officially cut the ribbon for Valerie Crabb of COUNTRY Financial\, located at 139 South Court Street in Prattville.</span></span><span style="font-size:16px\;"><span font-size:="" segoe="" style="box-sizing: border-box\; border: 0px solid rgb(51\, 51\, 51)\; font-weight: bolder\; -webkit-font-smoothing: antialiased\; -webkit-tap-highlight-color: transparent\; outline: 0px\; color: rgb(5\, 5\, 5)\; font-family: " ui="" white-space:="">&nbsp\;Ribbon cuttings are celebrations and show that Prattville and Autauga County are open for business!</span></span><br />\n<br />\n<span style="font-size:16px\;"><span font-size:="" segoe="" style="box-sizing: border-box\; border: 0px solid rgb(51\, 51\, 51)\; font-weight: bolder\; -webkit-font-smoothing: antialiased\; -webkit-tap-highlight-color: transparent\; outline: 0px\; color: rgb(5\, 5\, 5)\; font-family: " ui="" white-space:="">To learn more about this local business\, please click <a href="https://online.prattvillechamber.com/list/member/country-financial-valerie-l-crabb-agency-11438"><u>here</u></a>.<br />\n<br />\n<em>For more information\, please contact the Prattville Area Chamber of Commerce team at</em></span></span><em><span font-size:="" segoe="" style="box-sizing: border-box\; border: 0px solid rgb(51\, 51\, 51)\; font-weight: bolder\; -webkit-font-smoothing: antialiased\; -webkit-tap-highlight-color: transparent\; outline: 0px\; color: rgb(5\, 5\, 5)\; font-family: " ui="" white-space:=""><tcxspan style="box-sizing: border-box\; border: 0px solid rgb(51\, 51\, 51)\; -webkit-font-smoothing: antialiased\; -webkit-tap-highlight-color: transparent\;" tcxhref="3343657392" title="Call  334.365.7392.  via 3CX"><em><span style="font-size:16px\;"> 334.365.7392. </span></em></tcxspan></span><span style="font-size:16px\;"><span font-size:="" segoe="" style="box-sizing: border-box\; border: 0px solid rgb(51\, 51\, 51)\; font-weight: bolder\; -webkit-font-smoothing: antialiased\; -webkit-tap-highlight-color: transparent\; outline: 0px\; color: rgb(5\, 5\, 5)\; font-family: " ui="" white-space:="">We hope to see you there!</span></span></em>
LOCATION:139 South Court Street Prattville\, AL 36067
UID:e.1954.2000
SEQUENCE:3
DTSTAMP:20260424T080623Z
URL:https://online.prattvillechamber.com/events/details/ribbon-cutting-valerie-crabb-country-financial-2000
END:VEVENT

END:VCALENDAR
