BEGIN:VCALENDAR
VERSION:2.0
PRODID:-//ChamberMaster//Event Calendar 2.0//EN
METHOD:PUBLISH
X-PUBLISHED-TTL:P3D
REFRESH-INTERVAL:P3D
CALSCALE:GREGORIAN
BEGIN:VEVENT
DTSTART:20220210T200000Z
DTEND:20220210T203000Z
X-MICROSOFT-CDO-ALLDAYEVENT:FALSE
SUMMARY:Ribbon Cutting - The Harbor at Hickory Hill
DESCRIPTION:Join the celebration on Feb. 10th\, 2022 at 2:00 P.M. to help us officially cut the ribbon at The Harbor at Hickory Hill at 2102 Summit Parkway\, Prattville\, AL 36066. Ribbon cuttings are celebrations and show that Prattville and Autauga County are open for business. For more information\, please contact the Prattville Area Chamber of Commerce at 334.365.7392. We hope to see you there!
X-ALT-DESC;FMTTYPE=text/html:<div class="kvgmc6g5 cxmmr5t8 oygrvhab hcukyx3x c1et5uql ii04i59q" style="overflow-wrap: break-word\; margin: 0px\; white-space: pre-wrap\; font-family: &quot\;Segoe UI Historic&quot\;\, &quot\;Segoe UI&quot\;\, Helvetica\, Arial\, sans-serif\; color: rgb(5\, 5\, 5)\; font-size: 15px\;">\n<div dir="auto" style="font-family: inherit\;">\n<div class="kvgmc6g5 cxmmr5t8 oygrvhab hcukyx3x c1et5uql" style="overflow-wrap: break-word\; margin: 0px\; font-family: &quot\;Segoe UI Historic&quot\;\, &quot\;Segoe UI&quot\;\, Helvetica\, Arial\, sans-serif\; color: rgb(5\, 5\, 5)\; font-size: 15px\; background-color: rgb(255\, 255\, 255)\;"><strong>Join the celebration on Feb. 10th\, 2022 at 2:00 P.M. to help us officially cut the ribbon at The Harbor at Hickory Hill at 2102 Summit Parkway\, Prattville\, AL 36066. Ribbon cuttings are celebrations and show that Prattville and Autauga County are open for business. For more information\, please contact the Prattville Area Chamber of Commerce at<tcxspan tcxhref="3343657392" title="Call  334.365.7392.  via 3CX"> 334.365.7392. </tcxspan>We hope to see you there!</strong></div>\n</div>\n</div>\n
LOCATION:2102 Summit Parkway Prattville\, AL 36066
UID:e.1954.1950
SEQUENCE:3
DTSTAMP:20260424T204329Z
URL:https://online.prattvillechamber.com/events/details/ribbon-cutting-the-harbor-at-hickory-hill-1950
END:VEVENT

END:VCALENDAR
