BEGIN:VCALENDAR
VERSION:2.0
PRODID:-//ChamberMaster//Event Calendar 2.0//EN
METHOD:PUBLISH
X-PUBLISHED-TTL:P3D
REFRESH-INTERVAL:P3D
CALSCALE:GREGORIAN
BEGIN:VEVENT
DTSTART:20230411T150000Z
DTEND:20230411T153000Z
X-MICROSOFT-CDO-ALLDAYEVENT:FALSE
SUMMARY:Ribbon Cutting | The Auto Free Clinic
DESCRIPTION:We hope to see you April 11th at 10:00 AM to help us officially cut the ribbon for The Auto Free Clinc at 1259B S Memorial Drive\, Prattville\, AL 36067 (behind Prattville Camper and RV Repair).\n\n\n\nRibbon cuttings are celebrations\, while also showing that Prattville and Autauga County are open for business.\n\n\n\nFor more information\, please contact the Prattville Area Chamber of Commerce at 334.365.7392. We hope to see you there!
X-ALT-DESC;FMTTYPE=text/html:<div class="x11i5rnm xat24cr x1mh8g0r x1vvkbs xdj266r x126k92a" style="box-sizing: border-box\; margin: 0px\; overflow-wrap: break-word\; white-space: pre-wrap\; color: rgb(5\, 5\, 5)\; font-family: &quot\;Segoe UI Historic&quot\;\, &quot\;Segoe UI&quot\;\, Helvetica\, Arial\, sans-serif\; font-size: 15px\;">\n<div dir="auto" style="box-sizing: border-box\;" tabindex="0">We hope to see you April 11th at 10:00 AM to help us officially cut the ribbon for The Auto Free Clinc at 1259B S Memorial Drive\, Prattville\, AL 36067 (behind Prattville Camper and RV Repair).</div>\n</div>\n\n<div class="x11i5rnm xat24cr x1mh8g0r x1vvkbs xtlvy1s x126k92a" style="box-sizing: border-box\; margin: 0.5em 0px 0px\; overflow-wrap: break-word\; white-space: pre-wrap\; color: rgb(5\, 5\, 5)\; font-family: &quot\;Segoe UI Historic&quot\;\, &quot\;Segoe UI&quot\;\, Helvetica\, Arial\, sans-serif\; font-size: 15px\;">\n<div dir="auto" style="box-sizing: border-box\;" tabindex="0">Ribbon cuttings are celebrations\, while also showing that Prattville and Autauga County are open for business.</div>\n</div>\n\n<div class="x11i5rnm xat24cr x1mh8g0r x1vvkbs xtlvy1s x126k92a" style="box-sizing: border-box\; margin: 0.5em 0px 0px\; overflow-wrap: break-word\; white-space: pre-wrap\; color: rgb(5\, 5\, 5)\; font-family: &quot\;Segoe UI Historic&quot\;\, &quot\;Segoe UI&quot\;\, Helvetica\, Arial\, sans-serif\; font-size: 15px\;">\n<div dir="auto" style="box-sizing: border-box\; outline: 0px\;" tabindex="0">For more information\, please contact the Prattville Area Chamber of Commerce at 334.365.7392. We hope to see you there!</div>\n</div>\n
LOCATION:1259B S Memorial Drive\, Prattville AL Behind Prattville Camper and RV Repair
UID:e.1954.2061
SEQUENCE:3
DTSTAMP:20260423T202738Z
URL:https://online.prattvillechamber.com/events/details/ribbon-cutting-the-auto-free-clinic-2061
END:VEVENT

END:VCALENDAR
