BEGIN:VCALENDAR
VERSION:2.0
PRODID:-//ChamberMaster//Event Calendar 2.0//EN
METHOD:PUBLISH
X-PUBLISHED-TTL:P3D
REFRESH-INTERVAL:P3D
CALSCALE:GREGORIAN
BEGIN:VEVENT
DTSTART:20220614T190000Z
DTEND:20220614T193000Z
X-MICROSOFT-CDO-ALLDAYEVENT:FALSE
SUMMARY:Ribbon Cutting - Southern Bells Nutrition
DESCRIPTION:Join the celebration on June 14 at 2:00 P.M. to help us officially cut the ribbon for Southern Bells Nutrition\, located at 579 McQueen Smith Road South\, Prattville\, AL 36066. Ribbon cuttings are celebrations and show that Prattville and Autauga County are open for business!\n\n\n\nTo learn more about this local business\, please click here.\n\n\n\nFor more information\, please contact the Prattville Area Chamber of Commerce team at 334.365.7392. We hope to see you there!
X-ALT-DESC;FMTTYPE=text/html:<span style="font-size:16px\;"><span font-size:="" segoe="" style="box-sizing: border-box\; border: 0px solid rgb(51\, 51\, 51)\; font-weight: bolder\; -webkit-font-smoothing: antialiased\; -webkit-tap-highlight-color: transparent\; outline: 0px\; color: rgb(5\, 5\, 5)\; font-family: " ui="" white-space:="">Join the celebration on June 14 at 2:00 P.M. to help us officially cut the ribbon for Southern Bells Nutrition\, located at 579 McQueen Smith Road South\, Prattville\, AL 36066. Ribbon cuttings are celebrations and show that Prattville and Autauga County are open for business!<br />\n<br />\nTo learn more about this local business\, please click <a href="https://online.prattvillechamber.com/list/member/southern-bells-nutrition-11442">here</a>.<br />\n<br />\nFor more information\, please contact the Prattville Area Chamber of Commerce team at</span></span><span font-size:="" segoe="" style="box-sizing: border-box\; border: 0px solid rgb(51\, 51\, 51)\; font-weight: bolder\; -webkit-font-smoothing: antialiased\; -webkit-tap-highlight-color: transparent\; outline: 0px\; color: rgb(5\, 5\, 5)\; font-family: " ui="" white-space:=""><tcxspan style="box-sizing: border-box\; border: 0px solid rgb(51\, 51\, 51)\; -webkit-font-smoothing: antialiased\; -webkit-tap-highlight-color: transparent\;" tcxhref="3343657392" title="Call  334.365.7392.  via 3CX"><span style="font-size:16px\;"> 334.365.7392. </span></tcxspan></span><span style="font-size:16px\;"><span font-size:="" segoe="" style="box-sizing: border-box\; border: 0px solid rgb(51\, 51\, 51)\; font-weight: bolder\; -webkit-font-smoothing: antialiased\; -webkit-tap-highlight-color: transparent\; outline: 0px\; color: rgb(5\, 5\, 5)\; font-family: " ui="" white-space:="">We hope to see you there!</span></span>
LOCATION:579 McQueen Smith Road South Prattville\, AL 36066
UID:e.1954.1975
SEQUENCE:3
DTSTAMP:20260424T125345Z
URL:https://online.prattvillechamber.com/events/details/ribbon-cutting-southern-bells-nutrition-1975
END:VEVENT

END:VCALENDAR
