BEGIN:VCALENDAR
VERSION:2.0
PRODID:-//ChamberMaster//Event Calendar 2.0//EN
METHOD:PUBLISH
X-PUBLISHED-TTL:P3D
REFRESH-INTERVAL:P3D
CALSCALE:GREGORIAN
BEGIN:VEVENT
DTSTART:20211020T190000Z
DTEND:20211020T193000Z
X-MICROSOFT-CDO-ALLDAYEVENT:FALSE
SUMMARY:Ribbon Cutting - Pumpkin Pie Boutique
DESCRIPTION:Join us for a Ribbon Cutting to celebrate the one anniversary of Pumpkin Pie Boutique
X-ALT-DESC;FMTTYPE=text/html:<span style="font-size: 14px\;"><strong>Join us for a Ribbon Cutting to celebrate the one anniversary of Pumpkin Pie Boutique</strong></span>
LOCATION:1852 East Main Street Prattville\, AL 36066
UID:e.1954.1934
SEQUENCE:3
DTSTAMP:20260425T020008Z
URL:https://online.prattvillechamber.com/events/details/ribbon-cutting-pumpkin-pie-boutique-1934
END:VEVENT

END:VCALENDAR
