BEGIN:VCALENDAR
VERSION:2.0
PRODID:-//ChamberMaster//Event Calendar 2.0//EN
METHOD:PUBLISH
X-PUBLISHED-TTL:P3D
REFRESH-INTERVAL:P3D
CALSCALE:GREGORIAN
BEGIN:VEVENT
DTSTART:20220524T150000Z
DTEND:20220525T033000Z
X-MICROSOFT-CDO-ALLDAYEVENT:FALSE
SUMMARY:Ribbon Cutting | Preferred Hearing Solutions
DESCRIPTION:Join the celebration on Tuesday\, May 24\, at 10:00 A.M. to help the Prattville Area Chamber of Commerce officially cut the ribbon for Preferred Hearing Solutions. This will take place at 2066 Fairview Avenue in Prattville.\n\n Ribbon cuttings are celebrations and show that Prattville and Autauga County are open for business and thriving.\n\nFor more information\, please contact the Prattville Chamber team at 334.365.7392. We hope to see you there!
X-ALT-DESC;FMTTYPE=text/html:<div class="kvgmc6g5 cxmmr5t8 oygrvhab hcukyx3x c1et5uql ii04i59q" color:="" font-size:="" segoe="" style="overflow-wrap: break-word\; margin: 0px\; white-space: pre-wrap\; font-family: " ui="">\n<div dir="auto" style="font-family: inherit\;">Join the celebration on Tuesday\, May 24\, at 10:00 A.M. to help the Prattville Area Chamber of Commerce officially cut the ribbon for <span style="font-family: inherit\;"><a class="oajrlxb2 g5ia77u1 qu0x051f esr5mh6w e9989ue4 r7d6kgcz rq0escxv nhd2j8a9 nc684nl6 p7hjln8o kvgmc6g5 cxmmr5t8 oygrvhab hcukyx3x jb3vyjys rz4wbd8a qt6c0cv9 a8nywdso i1ao9s8h esuyzwwr f1sip0of lzcic4wl gpro0wi8 q66pz984 b1v8xokw" href="https://www.facebook.com/Preferredhearingsolutions/?__cft__[0]=AZW3MVOOU4O231YOkGWsxoIF8w_95DOPBeGghirEmc_jJsenjZrB0ZqR5YZF1jnRv3Mxe7SD2XG0kstalSqDT2xPwnfCYvmJtDuZL0OpoDvOUWqeYYJpM5YB06vUB296FP4zr3ukJnVX0vEZCKmH4_h3lEsAUzV8GVePgDglRor80FBqThg_34f1q39uUiC_SsY&amp\;__tn__=kK-R" role="link" style="color: var(--accent)\; cursor: pointer\; text-decoration-line: none\; outline: none\; list-style: none\; border-width: 0px\; border-style: initial\; border-color: initial\; padding: 0px\; margin: 0px\; touch-action: manipulation\; background-color: transparent\; text-align: inherit\; display: inline\; -webkit-tap-highlight-color: transparent\; box-sizing: border-box\; font-family: inherit\;" tabindex="0"><span class="nc684nl6" style="display: inline\; font-family: inherit\;">Preferred Hearing Solutions</span></a>. </span>This will take place at 2066 Fairview Avenue in Prattville.<br />\n&#65279\;Ribbon cuttings are celebrations and show that Prattville and Autauga County are open for business and thriving.<br />\nFor more information\, please contact the Prattville Chamber team at<tcxspan style="text-decoration-line: underline\; cursor: pointer\;" tcxhref="3343657392" title="Call  334.365.7392.  via 3CX"> 334.365.7392. </tcxspan>We hope to see you there!</div>\n</div>\n
LOCATION:2066 Fairview Avenue\, Prattville\, AL 36066
UID:e.1954.1970
SEQUENCE:3
DTSTAMP:20260424T141810Z
URL:https://online.prattvillechamber.com/events/details/ribbon-cutting-preferred-hearing-solutions-1970
END:VEVENT

END:VCALENDAR
