BEGIN:VCALENDAR
VERSION:2.0
PRODID:-//ChamberMaster//Event Calendar 2.0//EN
METHOD:PUBLISH
X-PUBLISHED-TTL:P3D
REFRESH-INTERVAL:P3D
CALSCALE:GREGORIAN
BEGIN:VEVENT
DTSTART:20210618T200000Z
DTEND:20210618T203000Z
X-MICROSOFT-CDO-ALLDAYEVENT:FALSE
SUMMARY:Ribbon Cutting - Prattville Pediatric Therapy Center
DESCRIPTION:Join us for a Ribbon Cutting and help us officially welcome Prattville Pediatric Therapy Center\, LLC
X-ALT-DESC;FMTTYPE=text/html:<span style="font-size: 14px\;"><strong>Join us for a Ribbon Cutting and help us officially welcome Prattville Pediatric Therapy Center\, LLC</strong></span>
LOCATION:115 N Memorial Drive Prattville\, AL 36067
UID:e.1954.1919
SEQUENCE:3
DTSTAMP:20260425T104516Z
URL:https://online.prattvillechamber.com/events/details/ribbon-cutting-prattville-pediatric-therapy-center-1919
END:VEVENT

END:VCALENDAR
