BEGIN:VCALENDAR
VERSION:2.0
PRODID:-//ChamberMaster//Event Calendar 2.0//EN
METHOD:PUBLISH
X-PUBLISHED-TTL:P3D
REFRESH-INTERVAL:P3D
CALSCALE:GREGORIAN
BEGIN:VEVENT
DTSTART:20220601T203000Z
DTEND:20220601T210000Z
X-MICROSOFT-CDO-ALLDAYEVENT:FALSE
SUMMARY:Ribbon Cutting | P'zazz Art Studio
DESCRIPTION:Join the celebration on Wednesday\, June 1 at 3:30 A.M. to help the Prattville Area Chamber of Commerce celebrate the 15th anniversary of P'Zazz Art Studio. This will take place at 138 West Main Street in Prattville.\n\n Ribbon cuttings are celebrations and show that Prattville and Autauga County are open for business and thriving.\n\nFor more information\, please contact the Prattville Chamber team at 334.365.7392. We hope to see you there!
X-ALT-DESC;FMTTYPE=text/html:<div class="kvgmc6g5 cxmmr5t8 oygrvhab hcukyx3x c1et5uql ii04i59q" color:="" font-size:="" segoe="" style="overflow-wrap: break-word\; margin: 0px\; white-space: pre-wrap\; font-family: " ui="">\n<div dir="auto" style="font-family: inherit\;">Join the celebration on Wednesday\, June 1 at 3:30 A.M. to help the Prattville Area Chamber of Commerce celebrate the 15th anniversary of P&#39\;Zazz Art Studio<span style="font-family: inherit\;">. </span>This will take place at 138 West Main Street in Prattville.<br />\n&#65279\;Ribbon cuttings are celebrations and show that Prattville and Autauga County are open for business and thriving.<br />\nFor more information\, please contact the Prattville Chamber team at<tcxspan style="text-decoration-line: underline\; cursor: pointer\;" tcxhref="3343657392" title="Call  334.365.7392.  via 3CX"> 334.365.7392. </tcxspan>We hope to see you there!</div>\n</div>\n
LOCATION:138 W. Main St.\, Prattville\, AL 36066
UID:e.1954.1973
SEQUENCE:3
DTSTAMP:20260424T125222Z
URL:https://online.prattvillechamber.com/events/details/ribbon-cutting-p-zazz-art-studio-1973
END:VEVENT

END:VCALENDAR
