BEGIN:VCALENDAR
VERSION:2.0
PRODID:-//ChamberMaster//Event Calendar 2.0//EN
METHOD:PUBLISH
X-PUBLISHED-TTL:P3D
REFRESH-INTERVAL:P3D
CALSCALE:GREGORIAN
BEGIN:VEVENT
DTSTART:20220407T190000Z
DTEND:20220407T193000Z
X-MICROSOFT-CDO-ALLDAYEVENT:FALSE
SUMMARY:Ribbon Cutting - Long-Lewis Ford
DESCRIPTION:Join the celebration on April 7th at 2:00 P.M. to help us officially cut the ribbon for Long-Lewis Ford's new Heavy Truck Shop at 2091 Fairview Ave\, Prattville\, AL 36066. Ribbon cuttings are celebrations and show that Prattville and Autauga County are open for business.\n\n\n\nFor more information\, please contact the Prattville Area Chamber of Commerce at 334.365.7392. We hope to see you there!
X-ALT-DESC;FMTTYPE=text/html:<span font-size:="" segoe="" style="font-family: sans-serif\, Arial\, Verdana\, &quot\;Trebuchet MS&quot\;\; font-size: 13px\; box-sizing: border-box\; border: 0px solid rgb(51\, 51\, 51)\; font-weight: bolder\; -webkit-font-smoothing: antialiased\; -webkit-tap-highlight-color: transparent\; outline: 0px\; color: rgb(5\, 5\, 5)\;" ui="" white-space:="">Join the celebration on April 7th at 2:00 P.M.&nbsp\;to&nbsp\;<span style="font-family: arial\;">help</span>&nbsp\;us officially cut the ribbon for Long-Lewis Ford&#39\;s new Heavy Truck Shop</span><span font-size:="" segoe="" style="font-family: sans-serif\, Arial\, Verdana\, &quot\;Trebuchet MS&quot\;\; font-size: 13px\; box-sizing: border-box\; border: 0px solid rgb(51\, 51\, 51)\; font-weight: bolder\; -webkit-font-smoothing: antialiased\; -webkit-tap-highlight-color: transparent\; outline: 0px\; color: rgb(5\, 5\, 5)\;" ui="" white-space:="">&nbsp\;at 2091 Fairview Ave\, Prattville\, AL 36066. Ribbon cuttings are celebrations and show that Prattville and Autauga County are open for business.<br />\n<br />\nFor more information\, please contact the Prattville Area Chamber of Commerce at<tcxspan style="box-sizing: border-box\; border: 0px solid rgb(51\, 51\, 51)\; -webkit-font-smoothing: antialiased\; -webkit-tap-highlight-color: transparent\;" tcxhref="3343657392" title="Call  334.365.7392.  via 3CX">&nbsp\;334.365.7392.&nbsp\;</tcxspan>We hope to see you there!</span>
LOCATION:2091 Fairview Ave Prattville\, AL 36066
UID:e.1954.1961
SEQUENCE:3
DTSTAMP:20260424T160711Z
URL:https://online.prattvillechamber.com/events/details/ribbon-cutting-long-lewis-ford-1961
END:VEVENT

END:VCALENDAR
