BEGIN:VCALENDAR
VERSION:2.0
PRODID:-//ChamberMaster//Event Calendar 2.0//EN
METHOD:PUBLISH
X-PUBLISHED-TTL:P3D
REFRESH-INTERVAL:P3D
CALSCALE:GREGORIAN
BEGIN:VEVENT
DTSTART:20220412T150000Z
DTEND:20220412T153000Z
X-MICROSOFT-CDO-ALLDAYEVENT:FALSE
SUMMARY:Ribbon Cutting - Julianne Hansen Fine Art & Pottery
DESCRIPTION:Join the celebration on April 12 at 10:00 A.M. to help us officially cut the ribbon for Julianne Hansen Fine Art & Pottery's newly expanded building at 173 West Main Street\, Prattville\, AL 36067. Ribbon cuttings are celebrations and show that Prattville and Autauga County are open for business.\n\n\n\nFor more information\, please contact the Prattville Area Chamber of Commerce at 334.365.7392. We hope to see you there!
X-ALT-DESC;FMTTYPE=text/html:<span font-size:="" segoe="" style="font-family: sans-serif\, Arial\, Verdana\, &quot\;Trebuchet MS&quot\;\; font-size: 13px\; box-sizing: border-box\; border: 0px solid rgb(51\, 51\, 51)\; font-weight: bolder\; -webkit-font-smoothing: antialiased\; -webkit-tap-highlight-color: transparent\; outline: 0px\; color: rgb(5\, 5\, 5)\;" ui="" white-space:="">Join the celebration on April 12 at 10:00 A.M.&nbsp\;to&nbsp\;<span style="font-family: arial\;">help</span>&nbsp\;us officially cut the ribbon for Julianne Hansen Fine Art &amp\; Pottery&#39\;s newly expanded building</span><span font-size:="" segoe="" style="font-family: sans-serif\, Arial\, Verdana\, &quot\;Trebuchet MS&quot\;\; font-size: 13px\; box-sizing: border-box\; border: 0px solid rgb(51\, 51\, 51)\; font-weight: bolder\; -webkit-font-smoothing: antialiased\; -webkit-tap-highlight-color: transparent\; outline: 0px\; color: rgb(5\, 5\, 5)\;" ui="" white-space:="">&nbsp\;at 173 West Main Street\, Prattville\, AL 36067. Ribbon cuttings are celebrations and show that Prattville and Autauga County are open for business.<br />\n<br />\nFor more information\, please contact the Prattville Area Chamber of Commerce at<tcxspan style="box-sizing: border-box\; border: 0px solid rgb(51\, 51\, 51)\; -webkit-font-smoothing: antialiased\; -webkit-tap-highlight-color: transparent\;" tcxhref="3343657392" title="Call  334.365.7392.  via 3CX">&nbsp\;334.365.7392.&nbsp\;</tcxspan>We hope to see you there!</span>
LOCATION:Hansen Fine Art and Pottery 173 West Main Street Prattville\, AL 36067
UID:e.1954.1962
SEQUENCE:3
DTSTAMP:20260424T161753Z
URL:https://online.prattvillechamber.com/events/details/ribbon-cutting-julianne-hansen-fine-art-pottery-1962
END:VEVENT

END:VCALENDAR
