BEGIN:VCALENDAR
VERSION:2.0
PRODID:-//ChamberMaster//Event Calendar 2.0//EN
METHOD:PUBLISH
X-PUBLISHED-TTL:P3D
REFRESH-INTERVAL:P3D
CALSCALE:GREGORIAN
BEGIN:VEVENT
DTSTART:20251209T150000Z
DTEND:20251209T153000Z
X-MICROSOFT-CDO-ALLDAYEVENT:FALSE
SUMMARY:Ribbon Cutting- In Style Hair Studio & Boutique
DESCRIPTION:We hope to see you December 9th at 9:00 AM to help us officially cut the ribbon for In Style Hair Studio & Boutique at 115 N Memorial Dr in Prattville!\n\n\n\nRibbon cuttings are celebrations\, while also showing that Prattville and Autauga County are open for business.\n\n\n\nFor more information\, please contact the Prattville Area Chamber of Commerce at 334.365.7392. We hope to see you there!
X-ALT-DESC;FMTTYPE=text/html:<div class="x11i5rnm xat24cr x1mh8g0r x1vvkbs xdj266r x126k92a" style="margin: 0px\; overflow-wrap: break-word\; white-space: pre-wrap\; color: rgb(5\, 5\, 5)\; font-family: &quot\;Segoe UI Historic&quot\;\, &quot\;Segoe UI&quot\;\, Helvetica\, Arial\, sans-serif\; font-size: 15px\;">\n<div dir="auto">We hope to see you December 9th at 9:00 AM to help us officially cut the ribbon for In Style Hair Studio &amp\; Boutique at 115 N Memorial Dr in Prattville!</div>\n</div>\n\n<div class="x11i5rnm xat24cr x1mh8g0r x1vvkbs xtlvy1s x126k92a" style="margin: 0.5em 0px 0px\; overflow-wrap: break-word\; white-space: pre-wrap\; color: rgb(5\, 5\, 5)\; font-family: &quot\;Segoe UI Historic&quot\;\, &quot\;Segoe UI&quot\;\, Helvetica\, Arial\, sans-serif\; font-size: 15px\;">\n<div dir="auto">Ribbon cuttings are celebrations\, while also showing that Prattville and Autauga County are open for business.</div>\n</div>\n\n<div class="x11i5rnm xat24cr x1mh8g0r x1vvkbs xtlvy1s x126k92a" style="margin: 0.5em 0px 0px\; overflow-wrap: break-word\; white-space: pre-wrap\; color: rgb(5\, 5\, 5)\; font-family: &quot\;Segoe UI Historic&quot\;\, &quot\;Segoe UI&quot\;\, Helvetica\, Arial\, sans-serif\; font-size: 15px\;">\n<div dir="auto">For more information\, please contact the Prattville Area Chamber of Commerce at 334.365.7392. We hope to see you there!</div>\n</div>\n
LOCATION:115 North Memorial Dr Prattville\, AL 36067
UID:e.1954.2274
SEQUENCE:3
DTSTAMP:20260422T195528Z
URL:https://online.prattvillechamber.com/events/details/ribbon-cutting-in-style-hair-studio-boutique-2274
END:VEVENT

END:VCALENDAR
