BEGIN:VCALENDAR
VERSION:2.0
PRODID:-//ChamberMaster//Event Calendar 2.0//EN
METHOD:PUBLISH
X-PUBLISHED-TTL:P3D
REFRESH-INTERVAL:P3D
CALSCALE:GREGORIAN
BEGIN:VEVENT
DTSTART:20231017T190000Z
DTEND:20231017T193000Z
X-MICROSOFT-CDO-ALLDAYEVENT:FALSE
SUMMARY:Ribbon Cutting- HOTWORX Prattville Location
DESCRIPTION:We hope to see you October 17th at 2:00 PM to help us officially cut the ribbon for HOTWOX's new Prattville location at 1876 East Main Street.\n\n\n\nRibbon cuttings are celebrations\, while also showing that Prattville and Autauga County are open for business.\n\n\n\nFor more information\, please contact the Prattville Area Chamber of Commerce at 334.365.7392. We hope to see you there!
X-ALT-DESC;FMTTYPE=text/html:<div class="x11i5rnm xat24cr x1mh8g0r x1vvkbs xdj266r x126k92a" style="margin: 0px\; overflow-wrap: break-word\; white-space: pre-wrap\; color: rgb(5\, 5\, 5)\; font-family: &quot\;Segoe UI Historic&quot\;\, &quot\;Segoe UI&quot\;\, Helvetica\, Arial\, sans-serif\; font-size: 15px\;">\n<div dir="auto">We hope to see you October 17th at 2:00 PM to help us officially cut the ribbon for HOTWOX&#39\;s new Prattville location at 1876 East Main Street.</div>\n</div>\n\n<div class="x11i5rnm xat24cr x1mh8g0r x1vvkbs xtlvy1s x126k92a" style="margin: 0.5em 0px 0px\; overflow-wrap: break-word\; white-space: pre-wrap\; color: rgb(5\, 5\, 5)\; font-family: &quot\;Segoe UI Historic&quot\;\, &quot\;Segoe UI&quot\;\, Helvetica\, Arial\, sans-serif\; font-size: 15px\;">\n<div dir="auto">Ribbon cuttings are celebrations\, while also showing that Prattville and Autauga County are open for business.</div>\n</div>\n\n<div class="x11i5rnm xat24cr x1mh8g0r x1vvkbs xtlvy1s x126k92a" style="margin: 0.5em 0px 0px\; overflow-wrap: break-word\; white-space: pre-wrap\; color: rgb(5\, 5\, 5)\; font-family: &quot\;Segoe UI Historic&quot\;\, &quot\;Segoe UI&quot\;\, Helvetica\, Arial\, sans-serif\; font-size: 15px\;">\n<div dir="auto">For more information\, please contact the Prattville Area Chamber of Commerce at 334.365.7392. We hope to see you there!</div>\n</div>\n
LOCATION:1876 East Main St Prattville\, AL 36066
UID:e.1954.2106
SEQUENCE:3
DTSTAMP:20260423T110821Z
URL:https://online.prattvillechamber.com/events/details/ribbon-cutting-hotworx-prattville-location-2106
END:VEVENT

END:VCALENDAR
