BEGIN:VCALENDAR
VERSION:2.0
PRODID:-//ChamberMaster//Event Calendar 2.0//EN
METHOD:PUBLISH
X-PUBLISHED-TTL:P3D
REFRESH-INTERVAL:P3D
CALSCALE:GREGORIAN
BEGIN:VEVENT
DTSTART:20220310T200000Z
DTEND:20220310T203000Z
X-MICROSOFT-CDO-ALLDAYEVENT:FALSE
SUMMARY:Ribbon Cutting - HomeMaker Property Inspections
DESCRIPTION:Join the celebration on March 10th\, 2022 at 2:00 P.M. to help us officially cut the ribbon for HomeMaker Property Inspections at the Chamber of Commerce\, 131 N. Court Street\, Prattville\, AL 36067. Ribbon cuttings are celebrations and show that Prattville and Autauga County are open for business. For more information\, please contact the Prattville Area Chamber of Commerce at 334.365.7392. We hope to see you there!
X-ALT-DESC;FMTTYPE=text/html:<span style="box-sizing: border-box\; border: 0px solid rgb(51\, 51\, 51)\; font-weight: bolder\; -webkit-font-smoothing: antialiased\; -webkit-tap-highlight-color: transparent\; outline: 0px\; color: rgb(5\, 5\, 5)\; font-family: &quot\;Segoe UI Historic&quot\;\, &quot\;Segoe UI&quot\;\, Helvetica\, Arial\, sans-serif\; font-size: 15px\; white-space: pre-wrap\;">Join the celebration on March 10th\, 2022 at 2:00 P.M. to help us officially cut the ribbon for HomeMaker Property Inspections at the Chamber of Commerce\, 131 N. Court Street\, Prattville\, AL 36067. Ribbon cuttings are celebrations and show that Prattville and Autauga County are open for business. For more information\, please contact the Prattville Area Chamber of Commerce at<tcxspan style="box-sizing: border-box\; border: 0px solid rgb(51\, 51\, 51)\; -webkit-font-smoothing: antialiased\; -webkit-tap-highlight-color: transparent\;" tcxhref="3343657392" title="Call  334.365.7392.  via 3CX"> 334.365.7392. </tcxspan>We hope to see you there!</span>
LOCATION:131 N. Court Street Prattville\, AL 36067
UID:e.1954.1952
SEQUENCE:3
DTSTAMP:20260424T174516Z
URL:https://online.prattvillechamber.com/events/details/ribbon-cutting-homemaker-property-inspections-1952
END:VEVENT

END:VCALENDAR
