BEGIN:VCALENDAR
VERSION:2.0
PRODID:-//ChamberMaster//Event Calendar 2.0//EN
METHOD:PUBLISH
X-PUBLISHED-TTL:P3D
REFRESH-INTERVAL:P3D
CALSCALE:GREGORIAN
BEGIN:VEVENT
DTSTART:20220927T150000Z
DTEND:20220927T153000Z
X-MICROSOFT-CDO-ALLDAYEVENT:FALSE
SUMMARY:Ribbon Cutting | Hailey Conway - COUNTRY Financial
DESCRIPTION:Join the celebration on Tuesday\, September 27\, at 10:00 A.M. to help us officially cut the ribbon for Hailey Conway of COUNTRY Financial\, located at 696 McQueen Smith Road North in Prattville. This local business is also celebrating their first anniversary. Ribbon cuttings are celebrations and show that Prattville and Autauga County are open for business!\n\n\n\nTo learn more about this local business\, please click here.\n\n\n\nFor more information\, please contact the Prattville Area Chamber of Commerce team at 334.365.7392. We hope to see you there!
X-ALT-DESC;FMTTYPE=text/html:<span style="font-size:16px\;"><span font-size:="" segoe="" style="box-sizing: border-box\; border: 0px solid rgb(51\, 51\, 51)\; font-weight: bolder\; -webkit-font-smoothing: antialiased\; -webkit-tap-highlight-color: transparent\; outline: 0px\; color: rgb(5\, 5\, 5)\; font-family: " ui="" white-space:="">Join the celebration on Tuesday\, September 27\, at 10:00 A.M. to help us officially cut the ribbon for Hailey Conway of COUNTRY Financial\, located at 696 McQueen Smith Road North in Prattville. This local business is also celebrating their first anniversary.</span></span><span style="font-size:16px\;"><span font-size:="" segoe="" style="box-sizing: border-box\; border: 0px solid rgb(51\, 51\, 51)\; font-weight: bolder\; -webkit-font-smoothing: antialiased\; -webkit-tap-highlight-color: transparent\; outline: 0px\; color: rgb(5\, 5\, 5)\; font-family: " ui="" white-space:="">&nbsp\;Ribbon cuttings are celebrations and show that Prattville and Autauga County are open for business!</span></span><br />\n<br />\n<span style="font-size:16px\;"><span font-size:="" segoe="" style="box-sizing: border-box\; border: 0px solid rgb(51\, 51\, 51)\; font-weight: bolder\; -webkit-font-smoothing: antialiased\; -webkit-tap-highlight-color: transparent\; outline: 0px\; color: rgb(5\, 5\, 5)\; font-family: " ui="" white-space:="">To learn more about this local business\, please click <a href="https://online.prattvillechamber.com/list/member/country-financial-hailey-conway-11454"><u>here</u></a>.<br />\n<br />\n<em>For more information\, please contact the Prattville Area Chamber of Commerce team at</em></span></span><em><span font-size:="" segoe="" style="box-sizing: border-box\; border: 0px solid rgb(51\, 51\, 51)\; font-weight: bolder\; -webkit-font-smoothing: antialiased\; -webkit-tap-highlight-color: transparent\; outline: 0px\; color: rgb(5\, 5\, 5)\; font-family: " ui="" white-space:=""><tcxspan style="box-sizing: border-box\; border: 0px solid rgb(51\, 51\, 51)\; -webkit-font-smoothing: antialiased\; -webkit-tap-highlight-color: transparent\;" tcxhref="3343657392" title="Call  334.365.7392.  via 3CX"><em><span style="font-size:16px\;"> 334.365.7392. </span></em></tcxspan></span><span style="font-size:16px\;"><span font-size:="" segoe="" style="box-sizing: border-box\; border: 0px solid rgb(51\, 51\, 51)\; font-weight: bolder\; -webkit-font-smoothing: antialiased\; -webkit-tap-highlight-color: transparent\; outline: 0px\; color: rgb(5\, 5\, 5)\; font-family: " ui="" white-space:="">We hope to see you there!</span></span></em>
LOCATION:696 McQueen Smith Road North Prattville\, AL 36066
UID:e.1954.2005
SEQUENCE:3
DTSTAMP:20260424T080522Z
URL:https://online.prattvillechamber.com/events/details/ribbon-cutting-hailey-conway-country-financial-2005
END:VEVENT

END:VCALENDAR
