BEGIN:VCALENDAR
VERSION:2.0
PRODID:-//ChamberMaster//Event Calendar 2.0//EN
METHOD:PUBLISH
X-PUBLISHED-TTL:P3D
REFRESH-INTERVAL:P3D
CALSCALE:GREGORIAN
BEGIN:VEVENT
DTSTART:20251017T190000Z
DTEND:20251017T193000Z
X-MICROSOFT-CDO-ALLDAYEVENT:FALSE
SUMMARY:Ribbon Cutting & Grand Re-Opening - Everything Alabama
DESCRIPTION:We hope to see you October 17th at 2:00 PM to help us officially cut the ribbon and the grand re-opening of Everything Alabama at 153 West Main St in Downtown Prattville.\n\n\n\nRibbon cuttings are celebrations\, while also showing that Prattville and Autauga County are open for business.\n\n\n\nFor more information\, please contact the Prattville Area Chamber of Commerce at 334.365.7392. We hope to see you there!
X-ALT-DESC;FMTTYPE=text/html:<div class="x11i5rnm xat24cr x1mh8g0r x1vvkbs xdj266r x126k92a" style="margin: 0px\; overflow-wrap: break-word\; white-space: pre-wrap\; color: rgb(5\, 5\, 5)\; font-family: &quot\;Segoe UI Historic&quot\;\, &quot\;Segoe UI&quot\;\, Helvetica\, Arial\, sans-serif\; font-size: 15px\;">\n<div dir="auto">We hope to see you October 17th at 2:00 PM to help us officially cut the ribbon and the grand re-opening of Everything Alabama at 153 West Main St in Downtown Prattville.</div>\n</div>\n\n<div class="x11i5rnm xat24cr x1mh8g0r x1vvkbs xtlvy1s x126k92a" style="margin: 0.5em 0px 0px\; overflow-wrap: break-word\; white-space: pre-wrap\; color: rgb(5\, 5\, 5)\; font-family: &quot\;Segoe UI Historic&quot\;\, &quot\;Segoe UI&quot\;\, Helvetica\, Arial\, sans-serif\; font-size: 15px\;">\n<div dir="auto">Ribbon cuttings are celebrations\, while also showing that Prattville and Autauga County are open for business.</div>\n</div>\n\n<div class="x11i5rnm xat24cr x1mh8g0r x1vvkbs xtlvy1s x126k92a" style="margin: 0.5em 0px 0px\; overflow-wrap: break-word\; white-space: pre-wrap\; color: rgb(5\, 5\, 5)\; font-family: &quot\;Segoe UI Historic&quot\;\, &quot\;Segoe UI&quot\;\, Helvetica\, Arial\, sans-serif\; font-size: 15px\;">\n<div dir="auto">For more information\, please contact the Prattville Area Chamber of Commerce at 334.365.7392. We hope to see you there!</div>\n</div>\n
LOCATION:153 West Main St Prattville\, AL 36067
UID:e.1954.2268
SEQUENCE:3
DTSTAMP:20260422T165125Z
URL:https://online.prattvillechamber.com/events/details/ribbon-cutting-grand-re-opening-everything-alabama-2268
END:VEVENT

END:VCALENDAR
