BEGIN:VCALENDAR
VERSION:2.0
PRODID:-//ChamberMaster//Event Calendar 2.0//EN
METHOD:PUBLISH
X-PUBLISHED-TTL:P3D
REFRESH-INTERVAL:P3D
CALSCALE:GREGORIAN
BEGIN:VEVENT
DTSTART:20221201T160000Z
DTEND:20221201T163000Z
X-MICROSOFT-CDO-ALLDAYEVENT:FALSE
SUMMARY:Ribbon Cutting | G.G.O.I. Enterprises
DESCRIPTION:Join the celebration on Thursday\, December 1at 10:00 A.M. to help us officially cut the ribbon for G.G.O.I. Enterprises\, located at 779 Martin Luther King Dr. (North Highland Community Center)\, in Prattville. Ribbon cuttings are celebrations and show that Prattville and Autauga County are open for business!\n\n\n\nTo learn more about this local business\, please click here.\n\n\n\nFor more information\, please contact the Prattville Area Chamber of Commerce team at 334.365.7392. We hope to see you there!
X-ALT-DESC;FMTTYPE=text/html:<span font-size:="" segoe="" style="box-sizing: border-box\; border: 0px solid rgb(51\, 51\, 51)\; -webkit-font-smoothing: antialiased\; -webkit-tap-highlight-color: transparent\; outline: 0px\;" ui="" white-space:=""><font color="#050505"><span style="font-size: 16px\; font-weight: bolder\;">Join the celebration on Thursday\,&nbsp\;</span><span style="font-size: 16px\;"><b>December</b></span><span style="font-size: 16px\; font-weight: bolder\;">&nbsp\;1at 10:00 A.M. to help us officially cut the ribbon for G.G.O.I. Enterprises\, located at 779 Martin Luther King Dr. (North Highland Community Center)\, in Prattville.</span></font></span><span style="font-size:16px\;"><span font-size:="" segoe="" style="box-sizing: border-box\; border: 0px solid rgb(51\, 51\, 51)\; font-weight: bolder\; -webkit-font-smoothing: antialiased\; -webkit-tap-highlight-color: transparent\; outline: 0px\; color: rgb(5\, 5\, 5)\; font-family: " ui="" white-space:="">&nbsp\;Ribbon cuttings are celebrations and show that Prattville and Autauga County are open for business!</span></span><br />\n<br />\n<span style="font-size:16px\;"><span font-size:="" segoe="" style="box-sizing: border-box\; border: 0px solid rgb(51\, 51\, 51)\; font-weight: bolder\; -webkit-font-smoothing: antialiased\; -webkit-tap-highlight-color: transparent\; outline: 0px\; color: rgb(5\, 5\, 5)\; font-family: " ui="" white-space:="">To learn more about this local business\, please click <a href="https://www.bing.com/maps?osid=cd09efd0-0919-42e3-838c-9d370edbd60a&amp\;cp=32.475749~-86.476038&amp\;lvl=16&amp\;imgid=fe60ff56-fbc3-4a84-8d36-edcc773804ad&amp\;v=2&amp\;sV=2&amp\;form=S00027"><u>here</u></a>.<br />\n<br />\n<em>For more information\, please contact the Prattville Area Chamber of Commerce team at</em></span></span><em><span font-size:="" segoe="" style="box-sizing: border-box\; border: 0px solid rgb(51\, 51\, 51)\; font-weight: bolder\; -webkit-font-smoothing: antialiased\; -webkit-tap-highlight-color: transparent\; outline: 0px\; color: rgb(5\, 5\, 5)\; font-family: " ui="" white-space:=""><tcxspan style="box-sizing: border-box\; border: 0px solid rgb(51\, 51\, 51)\; -webkit-font-smoothing: antialiased\; -webkit-tap-highlight-color: transparent\;" tcxhref="3343657392" title="Call  334.365.7392.  via 3CX"><em><span style="font-size:16px\;"> 334.365.7392. </span></em></tcxspan></span><span style="font-size:16px\;"><span font-size:="" segoe="" style="box-sizing: border-box\; border: 0px solid rgb(51\, 51\, 51)\; font-weight: bolder\; -webkit-font-smoothing: antialiased\; -webkit-tap-highlight-color: transparent\; outline: 0px\; color: rgb(5\, 5\, 5)\; font-family: " ui="" white-space:="">We hope to see you there!</span></span></em>
LOCATION:779 Martin Luther King Drive Prattville\, AL 36067
UID:e.1954.2024
SEQUENCE:3
DTSTAMP:20260424T030413Z
URL:https://online.prattvillechamber.com/events/details/ribbon-cutting-g-g-o-i-enterprises-2024
END:VEVENT

END:VCALENDAR
