BEGIN:VCALENDAR
VERSION:2.0
PRODID:-//ChamberMaster//Event Calendar 2.0//EN
METHOD:PUBLISH
X-PUBLISHED-TTL:P3D
REFRESH-INTERVAL:P3D
CALSCALE:GREGORIAN
BEGIN:VEVENT
DTSTART:20220315T150000Z
DTEND:20220315T153000Z
X-MICROSOFT-CDO-ALLDAYEVENT:FALSE
SUMMARY:Ribbon Cutting - Cajun Amoré
DESCRIPTION:Join the celebration on March 15 at 10:00 A.M. to help us officially cut the ribbon for Cajun Amor  at the Chamber of Commerce\, 131 N. Court Street\, Prattville\, AL 36067. Ribbon cuttings are celebrations and show that Prattville and Autauga County are open for business. For more information\, please contact the Prattville Area Chamber of Commerce at 334.365.7392. We hope to see you there!
X-ALT-DESC;FMTTYPE=text/html:<span font-size:="" segoe="" style="box-sizing: border-box\; border: 0px solid rgb(51\, 51\, 51)\; font-weight: bolder\; -webkit-font-smoothing: antialiased\; -webkit-tap-highlight-color: transparent\; outline: 0px\; color: rgb(5\, 5\, 5)\; font-family: " ui="" white-space:="">Join the celebration on March 15 at 10:00 A.M.&nbsp\;to <span style="font-family:arial\;">help</span> us officially cut the ribbon for Cajun Amor</span><strong><span style="font-size:14px\;">&eacute\;</span></strong><span font-size:="" segoe="" style="box-sizing: border-box\; border: 0px solid rgb(51\, 51\, 51)\; font-weight: bolder\; -webkit-font-smoothing: antialiased\; -webkit-tap-highlight-color: transparent\; outline: 0px\; color: rgb(5\, 5\, 5)\; font-family: " ui="" white-space:=""> at the Chamber of Commerce\, 131 N. Court Street\, Prattville\, AL 36067. Ribbon cuttings are celebrations and show that Prattville and Autauga County are open for business. For more information\, please contact the Prattville Area Chamber of Commerce at<tcxspan style="box-sizing: border-box\; border: 0px solid rgb(51\, 51\, 51)\; -webkit-font-smoothing: antialiased\; -webkit-tap-highlight-color: transparent\;" tcxhref="3343657392" title="Call  334.365.7392.  via 3CX"> 334.365.7392. </tcxspan>We hope to see you there!</span>
LOCATION:131 N. Court Street Prattville\, AL 36067
UID:e.1954.1956
SEQUENCE:3
DTSTAMP:20260424T174217Z
URL:https://online.prattvillechamber.com/events/details/ribbon-cutting-cajun-amor&#233;-1956
END:VEVENT

END:VCALENDAR
