BEGIN:VCALENDAR
VERSION:2.0
PRODID:-//ChamberMaster//Event Calendar 2.0//EN
METHOD:PUBLISH
X-PUBLISHED-TTL:P3D
REFRESH-INTERVAL:P3D
CALSCALE:GREGORIAN
BEGIN:VEVENT
DTSTART:20210624T150000Z
DTEND:20210624T153000Z
X-MICROSOFT-CDO-ALLDAYEVENT:FALSE
SUMMARY:Ribbon Cutting - Back in the Game
DESCRIPTION:Join us for a Ribbon Cutting and help us officially welcome Back in the Game
X-ALT-DESC;FMTTYPE=text/html:<span style="font-size: 14px\;"><strong>Join us for a Ribbon Cutting and help us officially welcome Back in the Game</strong></span>
LOCATION:809 S Memorial Drive Prattville\, AL 36067
UID:e.1954.1920
SEQUENCE:3
DTSTAMP:20260425T103627Z
URL:https://online.prattvillechamber.com/events/details/ribbon-cutting-back-in-the-game-1920
END:VEVENT

END:VCALENDAR
