BEGIN:VCALENDAR
VERSION:2.0
PRODID:-//ChamberMaster//Event Calendar 2.0//EN
METHOD:PUBLISH
X-PUBLISHED-TTL:P3D
REFRESH-INTERVAL:P3D
CALSCALE:GREGORIAN
BEGIN:VEVENT
DTSTART:20221024T223000Z
DTEND:20221024T230000Z
X-MICROSOFT-CDO-ALLDAYEVENT:FALSE
SUMMARY:Ribbon Cutting | Addition to Marbury High School
DESCRIPTION:The Prattville Area Chamber of Commerce is excited to host a special ribbon cutting for Autauga County Schools in recognition of Marbury High School's classroom and agriscience addition. The event will take place on October 24 at 5:30 P.M. Join us as we celebrate the advancement of education in Autauga County!\n\nThe event will take place at 2360 Highway 31 North\, Deatsville\, AL 36022.\n\nFor more information\, contact the Prattville Chamber team at 334.365.7392.
X-ALT-DESC;FMTTYPE=text/html:<div class="m8h3af8h l7ghb35v kjdc1dyq kmwttqpk gh25dzvf n3t5jt4f" color:="" font-size:="" segoe="" style="overflow-wrap: break-word\; margin: 0px\; white-space: pre-wrap\; font-family: " ui="">\n<div dir="auto" style="font-family: inherit\;"><span style="font-family: Arial\, Verdana\, Helvetica\, sans-serif\; font-size: 14px\; white-space: pre-wrap\; color: rgb(224\, 27\, 27)\; font-weight: bold\;">The Prattville Area Chamber of Commerce is excited to host a special ribbon cutting for Autauga County Schools in recognition of Marbury High School&#39\;s classroom and agriscience addition. The event will take place on October 24 at 5:30 P.M. </span><span style="font-family: Arial\, Verdana\, Helvetica\, sans-serif\; font-size: 14px\; white-space: pre-wrap\; color: rgb(20\, 20\, 20)\;">Join us as we celebrate the advancement of education in Autauga County!<br />\nThe event will take place at 2360 Highway 31 North\, Deatsville\, AL 36022.<br />\nFor more information\, contact the Prattville Chamber team at<tcxspan tcxhref="3343657392" title="Call  334.365.7392. via 3CX"> 334.365.7392.</tcxspan></span></div>\n</div>\n
LOCATION:2360 Highway 31 North Deatsville\, AL 36022
UID:e.1954.2010
SEQUENCE:3
DTSTAMP:20260424T062443Z
URL:https://online.prattvillechamber.com/events/details/ribbon-cutting-addition-to-marbury-high-school-2010
END:VEVENT

END:VCALENDAR
