BEGIN:VCALENDAR
VERSION:2.0
PRODID:-//ChamberMaster//Event Calendar 2.0//EN
METHOD:PUBLISH
X-PUBLISHED-TTL:P3D
REFRESH-INTERVAL:P3D
CALSCALE:GREGORIAN
BEGIN:VEVENT
DTSTART:20231012T150000Z
DTEND:20231012T153000Z
X-MICROSOFT-CDO-ALLDAYEVENT:FALSE
SUMMARY:Ribbon Cutting | ACTC
DESCRIPTION:You are invited to the Autauga County Technology Center Ribbon Cutting to celebrate the expansion of career tech education in our community!\n\n\n\nJoin us at the ACTC Campus at 1301 Upper Kingston Road in Prattville on October 12 at 10:00AM.
X-ALT-DESC;FMTTYPE=text/html:You are invited to the Autauga County Technology Center Ribbon Cutting to celebrate the expansion of career tech education in our community!<br />\n<br />\nJoin us at the ACTC Campus at 1301 Upper Kingston Road in Prattville on October 12 at 10:00AM.&nbsp\;
LOCATION:ACTC Campus 1301 Upper Kingston Rd Prattville\, AL 36067
UID:e.1954.2103
SEQUENCE:3
DTSTAMP:20260423T110232Z
URL:https://online.prattvillechamber.com/events/details/ribbon-cutting-actc-2103
END:VEVENT

END:VCALENDAR
