BEGIN:VCALENDAR
VERSION:2.0
PRODID:-//ChamberMaster//Event Calendar 2.0//EN
METHOD:PUBLISH
X-PUBLISHED-TTL:P3D
REFRESH-INTERVAL:P3D
CALSCALE:GREGORIAN
BEGIN:VEVENT
DTSTART:20220321T203000Z
DTEND:20220321T223000Z
X-MICROSOFT-CDO-ALLDAYEVENT:FALSE
SUMMARY:Regional Hiring Event
DESCRIPTION:The Prattville Area Chamber of Commerce Economic Development and Workforce Development Committee and the Prattville Area Industry Council will host a regional hiring event on March 21\, 2022 in partnership with Central Alabama Works\, The Chilton County Chamber\, Millbrook Area Chamber of Commerce\, and Wetumpka Area Chamber of Commerce. The event is to be held from 3:30-5:30 P.M. at Hunter Hills Church located at 330 Old Farm Lane North in Prattville.\n\n\n\nThis public hiring event is designed to help job seekers find quality jobs\, change careers\, or explore employment options in Central Alabama.\n\n\n\nJob seekers will have an opportunity to meet one-on-one with local employers currently seeking motivated individuals.\n\n\n\nThe purpose of the Prattville Area Industry Council is to meet the needs of local industries in partnership with Central Alabama Community College and Autauga County Technology Center\, by implementing programs for students to ensure a career path and a growing pipeline of employees for industries located in Autauga County.\n\n\n\nThe mission of the Prattville Area Chamber of Commerce is to strengthen the business environment and our community. For more information\, please contact the Prattville Chamber at info@prattvillechamber.com or 334.365.7392.
X-ALT-DESC;FMTTYPE=text/html:<span style="color:black\;"><span style="font-size:12.0pt\;">The</span></span> <span style="color:black\;"><span style="font-size:12.0pt\;">Prattville Area Chamber of Commerce</span></span><span style="color:#050505\;"><span style="font-size:12.0pt\;"> Economic Development and Workforce Development Committee and the Prattville Area Industry Council will host a regional hiring event on March 21\, 2022 in partnership with </span></span><span style="color:black\;"><span style="font-size:12.0pt\;">Central Alabama Works</span></span><span style="color:#050505\;"><span style="font-size:12.0pt\;">\, </span></span><span style="color:black\;"><span style="font-size:12.0pt\;">The Chilton County Chamber</span></span><span style="color:#050505\;"><span style="font-size:12.0pt\;">\, </span></span><span style="color:black\;"><span style="font-size:12.0pt\;">Millbrook Area Chamber</span></span><span style="font-size:12.0pt\;"> of Commerce</span><span style="color:#050505\;"><span style="font-size:12.0pt\;">\, and </span></span><span style="color:black\;"><span style="font-size:12.0pt\;">Wetumpka Area Chamber of Commerce</span></span><span style="color:#050505\;"><span style="font-size:12.0pt\;">. The event is to be held from 3:30-5:30 P.M. at </span></span><span style="color:black\;"><span style="font-size:12.0pt\;">Hunter Hills Church located at 330 Old Farm Lane North</span></span><span style="color:#050505\;"><span style="font-size:12.0pt\;"> in Prattville.</span></span><br />\n<br />\n<span style="color:#050505\;"><span style="font-size:12.0pt\;">This public hiring event is designed to help job seekers find quality jobs\, change careers\, or explore employment options in Central Alabama.</span></span><br />\n<br />\n<span style="color:black\;"><span style="font-size:12.0pt\;">Job seekers will have an opportunity to meet one-on-one with local employers currently seeking motivated individuals.</span></span><br />\n<br />\n<span style="color:#050505\;"><span style="font-size:12.0pt\;">The purpose of the Prattville Area Industry Council is to meet the needs of local industries in partnership with Central Alabama Community College and Autauga County Technology Center\, by implementing programs for students to ensure a career path and a growing pipeline of employees for industries located in Autauga County.</span></span><br />\n<br />\n<span style="color:#050505\;"><span style="font-size:12.0pt\;">The mission of the Prattville Area Chamber of Commerce is to&nbsp\;strengthen the business environment and our community. For more information\, please contact the Prattville Chamber at </span></span><span style="color:black\;"><a href="mailto:info@prattvillechamber.com"><span style="font-size:12.0pt\;">info@prattvillechamber.com</span></a></span><span style="color:#050505\;"><span style="font-size:12.0pt\;"> or<tcxspan tcxhref="3343657392" title="Call  334.365.7392.  via 3CX"> 334.365.7392. </tcxspan></span></span>
LOCATION:Hunter Hills Church 330 Old Farm Lane North Prattville\, AL 36066
UID:e.1954.1955
SEQUENCE:3
DTSTAMP:20260424T190337Z
URL:https://online.prattvillechamber.com/events/details/regional-hiring-event-1955
END:VEVENT

END:VCALENDAR
