BEGIN:VCALENDAR
VERSION:2.0
PRODID:-//ChamberMaster//Event Calendar 2.0//EN
METHOD:PUBLISH
X-PUBLISHED-TTL:P3D
REFRESH-INTERVAL:P3D
CALSCALE:GREGORIAN
BEGIN:VEVENT
DTSTART:20250911T220000Z
DTEND:20250911T233000Z
X-MICROSOFT-CDO-ALLDAYEVENT:FALSE
SUMMARY:PYP Fiesta & Friends
DESCRIPTION:Mark your calendar for September 11\, from 5:00- 6:30 pm for the Prattville Area Chamber of Commerce Young Professionals Fiesta and Friends at The Mill at Prattville. \n\n\n\nThis event is FREE and open to all young professionals looking to Connect. Develop. Impact and Lead! \n\n\n\nTo help provide a platform to attract\, retain\, support and help grow the demographic of young talent to the Prattville Area Chamber of Commerce and the Prattville/Autauga County Community while developing the next generation of leaders and their businesses. \n\n\n\n\n\nClick here to register.
X-ALT-DESC;FMTTYPE=text/html:<p><span style="color: rgb(29\, 33\, 41)\; font-family: Helvetica\, Arial\, sans-serif\; font-size: 14px\; white-space: pre-wrap\; background-color: rgb(255\, 255\, 255)\;">Mark your calendar for September 11\, from 5:00- 6:30 pm for the </span><a href="https://www.facebook.com/prattvillechamber/" style="color: rgb(56\, 88\, 152)\; cursor: pointer\; text-decoration-line: none\; font-family: Helvetica\, Arial\, sans-serif\; font-size: 14px\; white-space: pre-wrap\; background-color: rgb(255\, 255\, 255)\;" target="_blank">Prattville Area Chamber of Commerce</a><span style="color: rgb(29\, 33\, 41)\; font-family: Helvetica\, Arial\, sans-serif\; font-size: 14px\; white-space: pre-wrap\; background-color: rgb(255\, 255\, 255)\;"> Young Professionals Fiesta and Friends at The Mill at Prattville. </span><br style="color: rgb(29\, 33\, 41)\; font-family: Helvetica\, Arial\, sans-serif\; font-size: 14px\; white-space: pre-wrap\; background-color: rgb(255\, 255\, 255)\;" />\n<br style="color: rgb(29\, 33\, 41)\; font-family: Helvetica\, Arial\, sans-serif\; font-size: 14px\; white-space: pre-wrap\; background-color: rgb(255\, 255\, 255)\;" />\n<span style="color: rgb(29\, 33\, 41)\; font-family: Helvetica\, Arial\, sans-serif\; font-size: 14px\; white-space: pre-wrap\; background-color: rgb(255\, 255\, 255)\;">This event is FREE and open to all young professionals looking to Connect. Develop. Impact and Lead! </span><br />\n<br style="color: rgb(29\, 33\, 41)\; font-family: Helvetica\, Arial\, sans-serif\; font-size: 14px\; white-space: pre-wrap\; background-color: rgb(255\, 255\, 255)\;" />\n<span style="color: rgb(29\, 33\, 41)\; font-family: Helvetica\, Arial\, sans-serif\; font-size: 14px\; white-space: pre-wrap\; background-color: rgb(255\, 255\, 255)\;">To help provide a platform to attract\, retain\, support and help grow the demographic of young talent to the Prattville Area Chamber of Commerce and the Prattville/Autauga County Community while developing the next generation of leaders and their businesses. </span><br />\n<br />\n<br style="box-sizing: border-box\; border: 0px solid rgb(51\, 51\, 51)\; -webkit-font-smoothing: antialiased\; -webkit-tap-highlight-color: transparent\;" />\n<span style="box-sizing: border-box\; border: 0px solid rgb(51\, 51\, 51)\; -webkit-font-smoothing: antialiased\; -webkit-tap-highlight-color: transparent\; font-size: 14px\; font-family: arial\;" tabindex="0"><span style="box-sizing: border-box\; border: 0px solid rgb(51\, 51\, 51)\; -webkit-font-smoothing: antialiased\; -webkit-tap-highlight-color: transparent\; font-size: 16px\;" tabindex="0"><u style="box-sizing: border-box\; border: 0px solid rgb(51\, 51\, 51)\; -webkit-font-smoothing: antialiased\; -webkit-tap-highlight-color: transparent\;"><span style="box-sizing: border-box\; border: 0px solid rgb(51\, 51\, 51)\; font-weight: bolder\; -webkit-font-smoothing: antialiased\; -webkit-tap-highlight-color: transparent\;"><a href="https://prattvillechamber.chambermaster.com/eventregistration/register/2256"><span style="color:#000099\;">Click here to registe</span></a></span></u></span></span><a href="https://prattvillechamber.chambermaster.com/eventregistration/register/2256"><span style="box-sizing: border-box\; border: 0px solid rgb(51\, 51\, 51)\; -webkit-font-smoothing: antialiased\; -webkit-tap-highlight-color: transparent\; font-size: 14px\; font-family: arial\;" tabindex="0"><span style="box-sizing: border-box\; border: 0px solid rgb(51\, 51\, 51)\; -webkit-font-smoothing: antialiased\; -webkit-tap-highlight-color: transparent\; font-size: 16px\;" tabindex="0"><u style="box-sizing: border-box\; border: 0px solid rgb(51\, 51\, 51)\; -webkit-font-smoothing: antialiased\; -webkit-tap-highlight-color: transparent\;"><span style="box-sizing: border-box\; border: 0px solid rgb(51\, 51\, 51)\; font-weight: bolder\; -webkit-font-smoothing: antialiased\; -webkit-tap-highlight-color: transparent\;">r.</span></u></span></span></a></p>\n
LOCATION:The Mill at Prattville 110 Bridge Street Prattville\, AL 36067
UID:e.1954.2256
SEQUENCE:3
DTSTAMP:20260420T115524Z
URL:https://online.prattvillechamber.com/events/details/pyp-fiesta-friends-2256
END:VEVENT

END:VCALENDAR
