BEGIN:VCALENDAR
VERSION:2.0
PRODID:-//ChamberMaster//Event Calendar 2.0//EN
METHOD:PUBLISH
X-PUBLISHED-TTL:P3D
REFRESH-INTERVAL:P3D
CALSCALE:GREGORIAN
BEGIN:VEVENT
DTSTART:20230718T220000Z
DTEND:20230718T233000Z
X-MICROSOFT-CDO-ALLDAYEVENT:FALSE
SUMMARY:PYP Bingo & Brews
DESCRIPTION:Mark your calendar for July 18\, from 5:00- 6:30 pm for the Prattville Area Chamber of Commerce Young Professionals "Bingo & Brews".\n\n\n\nThis event is FREE and open to all young professionals looking to Connect. Develop. Impact and Lead! \n\n\n\nWhen: Tuesday\, July 18\, 5:00- 6:30 PM\n\nWhere: Autauga Creek Craft House\n\n\n\nTo help provide a platform to attract\, retain\, support and help grow the demographic of young talent to the Prattville Area Chamber of Commerce and the Prattville/Autauga County Community while developing the next generation of leaders and their businesses. \n\n\n\n\n\nMember login information is not available. If you are a member click the blue "register now" button and use the "Not a Member" link in the upper right side of the page to complete your online registration. You may also register by clicking the link below:\n\n\n\nClick here to register for the PYP Brews & Bingo
X-ALT-DESC;FMTTYPE=text/html:<p><span style="color: rgb(29\, 33\, 41)\; font-family: Helvetica\, Arial\, sans-serif\; font-size: 14px\; white-space: pre-wrap\; background-color: rgb(255\, 255\, 255)\;">Mark your calendar for July 18\, from 5:00- 6:30 pm for the </span><a href="https://www.facebook.com/prattvillechamber/" style="color: rgb(56\, 88\, 152)\; cursor: pointer\; text-decoration-line: none\; font-family: Helvetica\, Arial\, sans-serif\; font-size: 14px\; white-space: pre-wrap\; background-color: rgb(255\, 255\, 255)\;" target="_blank">Prattville Area Chamber of Commerce</a><span style="color: rgb(29\, 33\, 41)\; font-family: Helvetica\, Arial\, sans-serif\; font-size: 14px\; white-space: pre-wrap\; background-color: rgb(255\, 255\, 255)\;"> Young Professionals &quot\;Bingo &amp\; Brews&quot\;.</span><br style="color: rgb(29\, 33\, 41)\; font-family: Helvetica\, Arial\, sans-serif\; font-size: 14px\; white-space: pre-wrap\; background-color: rgb(255\, 255\, 255)\;" />\n<br style="color: rgb(29\, 33\, 41)\; font-family: Helvetica\, Arial\, sans-serif\; font-size: 14px\; white-space: pre-wrap\; background-color: rgb(255\, 255\, 255)\;" />\n<span style="color: rgb(29\, 33\, 41)\; font-family: Helvetica\, Arial\, sans-serif\; font-size: 14px\; white-space: pre-wrap\; background-color: rgb(255\, 255\, 255)\;">This event is FREE and open to all young professionals looking to Connect. Develop. Impact and Lead! </span><br style="color: rgb(29\, 33\, 41)\; font-family: Helvetica\, Arial\, sans-serif\; font-size: 14px\; white-space: pre-wrap\; background-color: rgb(255\, 255\, 255)\;" />\n<br style="color: rgb(29\, 33\, 41)\; font-family: Helvetica\, Arial\, sans-serif\; font-size: 14px\; white-space: pre-wrap\; background-color: rgb(255\, 255\, 255)\;" />\n<span style="color: rgb(29\, 33\, 41)\; font-family: Helvetica\, Arial\, sans-serif\; font-size: 14px\; white-space: pre-wrap\; background-color: rgb(255\, 255\, 255)\;">When: Tuesday\, July 18\, 5:00- 6:30 PM</span><br style="color: rgb(29\, 33\, 41)\; font-family: Helvetica\, Arial\, sans-serif\; font-size: 14px\; white-space: pre-wrap\; background-color: rgb(255\, 255\, 255)\;" />\n<span style="color: rgb(29\, 33\, 41)\; font-family: Helvetica\, Arial\, sans-serif\; font-size: 14px\; white-space: pre-wrap\; background-color: rgb(255\, 255\, 255)\;">Where: Autauga Creek Craft House</span><br />\n<br style="color: rgb(29\, 33\, 41)\; font-family: Helvetica\, Arial\, sans-serif\; font-size: 14px\; white-space: pre-wrap\; background-color: rgb(255\, 255\, 255)\;" />\n<span style="color: rgb(29\, 33\, 41)\; font-family: Helvetica\, Arial\, sans-serif\; font-size: 14px\; white-space: pre-wrap\; background-color: rgb(255\, 255\, 255)\;">To help provide a platform to attract\, retain\, support and help grow the demographic of young talent to the Prattville Area Chamber of Commerce and the Prattville/Autauga County Community while developing the next generation of leaders and their businesses. </span><br />\n<br />\n<br style="box-sizing: border-box\; border: 0px solid rgb(51\, 51\, 51)\; -webkit-font-smoothing: antialiased\; -webkit-tap-highlight-color: transparent\; color: rgb(68\, 68\, 68)\; font-family: arial\, sans-serif\; font-size: 14px\;" />\n<span style="box-sizing: border-box\; border: 0px solid rgb(51\, 51\, 51)\; -webkit-font-smoothing: antialiased\; -webkit-tap-highlight-color: transparent\; color: rgb(68\, 68\, 68)\; font-size: 14px\; font-family: arial\;" tabindex="0"><span style="box-sizing: border-box\; border: 0px solid rgb(51\, 51\, 51)\; -webkit-font-smoothing: antialiased\; -webkit-tap-highlight-color: transparent\; font-size: 16px\;" tabindex="0"><span style="box-sizing: border-box\; border: 0px solid rgb(51\, 51\, 51)\; font-weight: bolder\; -webkit-font-smoothing: antialiased\; -webkit-tap-highlight-color: transparent\;"><span style="box-sizing: border-box\; border: 0px solid rgb(51\, 51\, 51)\; -webkit-font-smoothing: antialiased\; -webkit-tap-highlight-color: transparent\; color: rgb(255\, 0\, 0)\;" tabindex="0">Member login information is not available. If you are a member click the blue</span>&nbsp\;<a href="https://prattvillechamber.chambermaster.com/eventregistration/register/2074" style="box-sizing: border-box\; border: 0px solid rgb(51\, 51\, 51)\; vertical-align: initial\; -webkit-font-smoothing: antialiased\; color: rgb(3\, 47\, 135)\; outline: 0px\; -webkit-tap-highlight-color: transparent\; text-decoration-line: none\; background-color: transparent\; overflow-wrap: break-word\;" tabindex="0">&quot\;</a><a href="https://prattvillechamber.chambermaster.com/eventregistration/register/2079" style="box-sizing: border-box\; border: 0px solid rgb(51\, 51\, 51)\; vertical-align: initial\; -webkit-font-smoothing: antialiased\; color: rgb(3\, 47\, 135)\; outline: 0px\; -webkit-tap-highlight-color: transparent\; text-decoration-line: none\; background-color: transparent\; overflow-wrap: break-word\;" tabindex="0">register now</a><a href="https://prattvillechamber.chambermaster.com/eventregistration/register/2074" style="box-sizing: border-box\; border: 0px solid rgb(51\, 51\, 51)\; vertical-align: initial\; -webkit-font-smoothing: antialiased\; color: rgb(3\, 47\, 135)\; outline: 0px\; -webkit-tap-highlight-color: transparent\; text-decoration-line: none\; background-color: transparent\; overflow-wrap: break-word\;" tabindex="0">&quot\;</a>&nbsp\;<span style="box-sizing: border-box\; border: 0px solid rgb(51\, 51\, 51)\; -webkit-font-smoothing: antialiased\; -webkit-tap-highlight-color: transparent\; color: rgb(255\, 0\, 0)\;" tabindex="0">button and use the &quot\;<u style="box-sizing: border-box\; border: 0px solid rgb(51\, 51\, 51)\; -webkit-font-smoothing: antialiased\; -webkit-tap-highlight-color: transparent\;">Not a Member</u>&quot\; link in the upper right side of the page to complete your online registration. You may also register by clicking the link below:</span></span></span></span><br style="box-sizing: border-box\; border: 0px solid rgb(51\, 51\, 51)\; -webkit-font-smoothing: antialiased\; -webkit-tap-highlight-color: transparent\;" />\n<br style="box-sizing: border-box\; border: 0px solid rgb(51\, 51\, 51)\; -webkit-font-smoothing: antialiased\; -webkit-tap-highlight-color: transparent\;" />\n<span style="box-sizing: border-box\; border: 0px solid rgb(51\, 51\, 51)\; -webkit-font-smoothing: antialiased\; -webkit-tap-highlight-color: transparent\; font-size: 14px\; font-family: arial\;" tabindex="0"><span style="box-sizing: border-box\; border: 0px solid rgb(51\, 51\, 51)\; -webkit-font-smoothing: antialiased\; -webkit-tap-highlight-color: transparent\; font-size: 16px\;" tabindex="0"><u style="box-sizing: border-box\; border: 0px solid rgb(51\, 51\, 51)\; -webkit-font-smoothing: antialiased\; -webkit-tap-highlight-color: transparent\;"><span style="box-sizing: border-box\; border: 0px solid rgb(51\, 51\, 51)\; font-weight: bolder\; -webkit-font-smoothing: antialiased\; -webkit-tap-highlight-color: transparent\;"><a href="https://prattvillechamber.chambermaster.com/eventregistration/register/2074" style="box-sizing: border-box\; border: 0px solid rgb(51\, 51\, 51)\; vertical-align: initial\; -webkit-font-smoothing: antialiased\; color: rgb(3\, 47\, 135)\; outline: 0px\; -webkit-tap-highlight-color: transparent\; text-decoration-line: none\; background-color: transparent\; overflow-wrap: break-word\;" tabindex="0"><span style="color:#000099\;">Click here to register for the P</span></a></span></u><a href="https://prattvillechamber.chambermaster.com/eventregistration/register/2079"><span style="color:#000099\;"><u style="box-sizing: border-box\; border: 0px solid rgb(51\, 51\, 51)\; -webkit-font-smoothing: antialiased\; -webkit-tap-highlight-color: transparent\;"><span style="box-sizing: border-box\; border: 0px solid rgb(51\, 51\, 51)\; font-weight: bolder\; -webkit-font-smoothing: antialiased\; -webkit-tap-highlight-color: transparent\;">YP Brews &amp\; Bingo</span></u></span></a></span></span></p>\n
LOCATION:Autauga Creek Craft House
UID:e.1954.2079
SEQUENCE:3
DTSTAMP:20260423T152659Z
URL:https://online.prattvillechamber.com/events/details/pyp-bingo-brews-2079
END:VEVENT

END:VCALENDAR
