BEGIN:VCALENDAR
VERSION:2.0
PRODID:-//ChamberMaster//Event Calendar 2.0//EN
METHOD:PUBLISH
X-PUBLISHED-TTL:P3D
REFRESH-INTERVAL:P3D
CALSCALE:GREGORIAN
BEGIN:VEVENT
DTSTART:20230422T150000Z
DTEND:20230422T190000Z
X-MICROSOFT-CDO-ALLDAYEVENT:FALSE
SUMMARY:Purple Up Prattville
DESCRIPTION:Join us as we celebrate our local military children for the Month of the Military Child!\n\n\n\nWhen: April 22\, 2023 | 10:00 A.M. - 2:00 P.M.\n\nWhere: Downtown Prattville - Spillway Park\n\n\n\nThere will be live entertainment\, local food\, walking parade from 1:00-1:30 P.M. and support Military Organizations!
X-ALT-DESC;FMTTYPE=text/html:<div style="text-align: center\;"><span style="font-size:20px\;">Join us as we celebrate our local military children for the Month of the Military Child!<br />\n<br />\nWhen: April 22\, 2023 | 10:00 A.M. - 2:00 P.M.<br />\nWhere: Downtown Prattville - Spillway Park<br />\n<br />\nThere will be live entertainment\, local food\, walking parade from 1:00-1:30 P.M. and support Military Organizations!</span></div>\n
LOCATION:Historic Downtown Prattville - Spillway Park
UID:e.1954.2059
SEQUENCE:3
DTSTAMP:20260423T220319Z
URL:https://online.prattvillechamber.com/events/details/purple-up-prattville-2059
END:VEVENT

END:VCALENDAR
