BEGIN:VCALENDAR
VERSION:2.0
PRODID:-//ChamberMaster//Event Calendar 2.0//EN
METHOD:PUBLISH
X-PUBLISHED-TTL:P3D
REFRESH-INTERVAL:P3D
CALSCALE:GREGORIAN
BEGIN:VEVENT
DTSTART:20220810T163000Z
DTEND:20220810T180000Z
X-MICROSOFT-CDO-ALLDAYEVENT:FALSE
SUMMARY:POWER UP Professional Development Series Luncheon
DESCRIPTION:The Small Business Committee is excited to announce the third POWER UP Professional Development Series Luncheon will be held at the Prattville Area Chamber of Commerce on August 10 from 11:30-1:00 P.M. This event will include a special presentation on the importance of cybersecurity by Nic Cofield\, Vice President of Client Services for Jackson Thornton Technologies.\n\nSession Takeaways:\n\n1. The importance of cybersecurity for small businesses\n\n2. Common cybersecurity threats\n\n3. Ways to prevent and respond to a cyberattack\n\n \n\nRegistration is now open for the event! Tickets are only $15 for Chamber Members. Non-Chamber Member tickets are $25. Click here to register for the luncheon.\n\n\n\n\nThe POWER UP is designed by your Prattville Area Chamber of Commerce to help you obtain training on issues that will help you and your business succeed! By partnering with the experts\, we are bringing an innovative program to the Chamber designed to offer bite-sized learning that can be quickly and effectively applied\, allowing you to POWER UP your business in many valuable ways! \n\n\nMember login information is not currently active. If you are a member click the blue "register now" button and use the "Not a Member" link in the upper right side of the page to complete your online registration.\n\n\n\nClick here to register for the luncheon.
X-ALT-DESC;FMTTYPE=text/html:<div style="font-size: 12pt\;">\n<div style="color: rgb(0\, 0\, 0)\; font-family: Arial\, Verdana\, Helvetica\, sans-serif\; font-size: 14px\; white-space: pre-wrap\;"><span style="font-size:18px\;"><span style="font-weight: bold\; color: rgb(224\, 27\, 27)\;">The Small Business Committee is excited to announce the third POWER UP Professional Development Series Luncheon will be held at the Prattville Area Chamber of Commerce on August 10 from 11:30-1:00 P.M. This event will include a special presentation on the importance of cybersecurity by Nic Cofield\, Vice President of Client Services for Jackson Thornton Technologies.</span></span><br />\n<span style="color:#000000\;"><u><strong>Session Takeaways:</strong></u><br />\n1. The importance of cybersecurity for small businesses<br />\n2. Common cybersecurity threats<br />\n3. Ways to prevent and respond to a cyberattack</span><br />\n&nbsp\;</div>\n\n<div style="color: rgb(0\, 0\, 0)\; font-family: Arial\, Verdana\, Helvetica\, sans-serif\; font-size: 14px\; white-space: pre-wrap\;">Registration is now open for the event! <span style="font-weight: bold\;">Tickets are only $15 for Chamber Members. Non-Chamber Member tickets are $25. </span><u style="font-size: 16px\;"><strong><a href="https://prattvillechamber.chambermaster.com/eventregistration/register/1985"><span style="color: rgb(0\, 0\, 255)\;">Click here to register for the luncheon.</span></a></strong></u></div>\n</div>\n\n<div><br />\n<span style="font-size: 18px\;"><strong><em><span style="font-size: 14px\;">The&nbsp\;<span style="color: rgb(255\, 0\, 0)\;">POWER UP</span>&nbsp\;is designed by your Prattville Area Chamber of Commerce to help you obtain training on issues that will help you and your business succeed! By partnering with the experts\, we are bringing an innovative program to the Chamber designed to offer bite-sized learning that can be quickly and effectively applied\, allowing you to&nbsp\;<span style="color: rgb(255\, 0\, 0)\;">POWER UP&nbsp\;</span>your business in many valuable ways!&nbsp\;</span></em></strong></span></div>\n<br />\n<span style="font-size: 16px\;"><span style="color: rgb(255\, 0\, 0)\;"><strong>Member login information is not currently active. If you are a member click the blue&nbsp\;</strong></span><strong><a href="https://prattvillechamber.chambermaster.com/eventregistration/register/1985"><span style="color: rgb(0\, 0\, 255)\;">&quot\;register now&quot\;</span></a></strong><span style="color: rgb(255\, 0\, 0)\;"><strong>&nbsp\;button and use the &quot\;Not a Member&quot\; link in the upper right side of the page to complete your online registration.</strong></span><br />\n<br />\n<u><strong><a href="https://prattvillechamber.chambermaster.com/eventregistration/register/1985"><span style="color: rgb(0\, 0\, 255)\;">Click here to register for the luncheon.</span></a></strong></u></span>
LOCATION:Prattville Area Chamber of Commerce 131 North Court Street Prattville\, AL 36067
UID:e.1954.1985
SEQUENCE:3
DTSTAMP:20260424T094858Z
URL:https://online.prattvillechamber.com/events/details/power-up-professional-development-series-luncheon-1985
END:VEVENT

END:VCALENDAR
