BEGIN:VCALENDAR
VERSION:2.0
PRODID:-//ChamberMaster//Event Calendar 2.0//EN
METHOD:PUBLISH
X-PUBLISHED-TTL:P3D
REFRESH-INTERVAL:P3D
CALSCALE:GREGORIAN
BEGIN:VEVENT
DTSTART:20250911T150000Z
DTEND:20250911T170000Z
X-MICROSOFT-CDO-ALLDAYEVENT:FALSE
SUMMARY:POWER UP Professional Development Series- Generations in the Workforce
DESCRIPTION:The Small Business Committee is excited to announce the Leadership Development POWER UP Professional Development Series will be held at the Prattville Area Chamber of Commerce on September 11th from 10:00 A.M. -12:00 P.M. This event will include a special presentation from a LMD Training Facilitator with Alabama Technology Network. \n\n \n\nRegistration is now open for the event! Tickets are only $25. Click here to register for the luncheon.\n\n \n\nThis is a great opportunity to connect with fellow Chamber Members while learning more about generations in the workforce. If you have questions\, please reach out to your Prattville Chamber team.\n\n\n\n\nThe POWER UP is designed by your Prattville Area Chamber of Commerce to help you obtain training on issues that will help you and your business succeed! By partnering with the experts\, we are bringing an innovative program to the Chamber designed to offer bite-sized learning that can be quickly and effectively applied\, allowing you to POWER UP your business in many valuable ways! \n\n\n\n\nClick here to register!
X-ALT-DESC;FMTTYPE=text/html:<div style="font-size: 12pt\;">\n<div style="color: rgb(0\, 0\, 0)\; font-family: Arial\, Verdana\, Helvetica\, sans-serif\; font-size: 14px\; white-space: pre-wrap\;"><span style="font-weight: bold\; color: rgb(224\, 27\, 27)\;">The Small Business Committee is excited to announce the Leadership Development POWER UP Professional Development Series will be held at the Prattville Area Chamber of Commerce on September 11th from 10:00 A.M. -12:00 P.M. This event will include a special presentation from a LMD Training Facilitator with Alabama Technology Network. </span><br />\n&nbsp\;</div>\n\n<div style="color: rgb(0\, 0\, 0)\; font-family: Arial\, Verdana\, Helvetica\, sans-serif\; font-size: 14px\; white-space: pre-wrap\;">Registration is now open for the event! <span style="font-weight: bold\;">Tickets are only $25. </span><u style="font-size: 16px\;"><strong><a href="https://prattvillechamber.chambermaster.com/eventregistration/register/2249"><span style="color: rgb(0\, 0\, 255)\;">Click here to register for the luncheon.</span></a></strong></u></div>\n\n<div style="color: rgb(0\, 0\, 0)\; font-family: Arial\, Verdana\, Helvetica\, sans-serif\; font-size: 14px\; white-space: pre-wrap\;">&nbsp\;</div>\n\n<div style="color: rgb(0\, 0\, 0)\; font-family: Arial\, Verdana\, Helvetica\, sans-serif\; font-size: 14px\; white-space: pre-wrap\;">This is a great opportunity to connect with fellow Chamber Members while learning more about generations in the workforce. If you have questions\, please reach out to your Prattville Chamber team.</div>\n</div>\n\n<div><br />\n<span style="font-size: 18px\;"><strong><em><span style="font-size: 14px\;">The&nbsp\;<span style="color: rgb(255\, 0\, 0)\;">POWER UP</span>&nbsp\;is designed by your Prattville Area Chamber of Commerce to help you obtain training on issues that will help you and your business succeed! By partnering with the experts\, we are bringing an innovative program to the Chamber designed to offer bite-sized learning that can be quickly and effectively applied\, allowing you to&nbsp\;<span style="color: rgb(255\, 0\, 0)\;">POWER UP&nbsp\;</span>your business in many valuable ways!&nbsp\;</span></em></strong></span></div>\n<br />\n<br />\n<span style="font-size: 16px\;"><u><strong><a href="https://prattvillechamber.chambermaster.com/eventregistration/register/2249"><span style="color:#0000FF\;">Click here to register</span></a></strong></u></span><a href="https://prattvillechamber.chambermaster.com/eventregistration/register/2249"><span style="font-size: 16px\;"><u><strong>!</strong></u></span></a>
LOCATION:Prattville Area Chamber of Commerce 131 North Court Street Prattville\, AL 36067
UID:e.1954.2249
SEQUENCE:3
DTSTAMP:20260420T132226Z
URL:https://online.prattvillechamber.com/events/details/power-up-professional-development-series-generations-in-the-workforce-2249
END:VEVENT

END:VCALENDAR
