BEGIN:VCALENDAR
VERSION:2.0
PRODID:-//ChamberMaster//Event Calendar 2.0//EN
METHOD:PUBLISH
X-PUBLISHED-TTL:P3D
REFRESH-INTERVAL:P3D
CALSCALE:GREGORIAN
BEGIN:VEVENT
DTSTART:20230201T200000Z
DTEND:20230201T203000Z
X-MICROSOFT-CDO-ALLDAYEVENT:FALSE
SUMMARY:PCA Ribbon Cutting
DESCRIPTION:Once on campus\, guests will be asked to park in a designated grassy lot near the weight room. Guests should drive past the school's two main buildings\, turning right into the parking lot just past the second building marked "elementary / main offices" and drive through the open gate. The grassy area will be just inside the roll-back gate. Signage will be available to assist guests.
X-ALT-DESC;FMTTYPE=text/html:Once on campus\, guests will be asked to park in a designated grassy lot near the weight room. Guests should drive&nbsp\;past the school&#39\;s two main buildings\, turning right into the parking lot just&nbsp\;past the second building marked &quot\;elementary / main offices&quot\; and drive through the open gate. The grassy area will be just inside the roll-back gate. Signage will be available to assist guests.&nbsp\;
LOCATION:322 Old Farm Lane N Prattville\, AL 36066
UID:e.1954.2035
SEQUENCE:3
DTSTAMP:20260423T233917Z
URL:https://online.prattvillechamber.com/events/details/pca-ribbon-cutting-2035
END:VEVENT

END:VCALENDAR
