BEGIN:VCALENDAR
VERSION:2.0
PRODID:-//ChamberMaster//Event Calendar 2.0//EN
METHOD:PUBLISH
X-PUBLISHED-TTL:P3D
REFRESH-INTERVAL:P3D
CALSCALE:GREGORIAN
BEGIN:VEVENT
DTSTART:20231018T163000Z
DTEND:20231018T180000Z
X-MICROSOFT-CDO-ALLDAYEVENT:FALSE
SUMMARY:October Chamber Luncheon Sponsored by Jackson Thornton
DESCRIPTION:You're invited to join us for the October Chamber Luncheon sponsored by Jackson Thornton!\n\n\n\nGain a little knowledge while building your connections by joining the Prattville Area Chamber of Commerce and our members for the Chamber Champion Luncheon sponsored by Jackson Thornton. The Chamber's Monthly Luncheons are a great opportunity to connect with other business leaders in the area and each month is educational and completely different.\n\n \n\nMake your reservation and join us for a Chamber Luncheon with your Prattville Chamber! This is a great networking opportunity. Bring your business cards!\n\n\n\nMember login information is not available. If you are a member click the blue "register now" button and use the "Not a Member" link in the upper right side of the page to complete your online registration. You may also register by clicking the link below:\n\n\n\nClick here to register for the October Monthly Luncheon\n\nTo avoid billing\, a 24 hour notice is required for cancellations. \n\n\n\nTicket sales end on Monday\, October 16th at noon.
X-ALT-DESC;FMTTYPE=text/html:<p><span style="font-size: 16px\;"><span style="font-family: arial\;"><span style="font-size: 18px\;"><strong>You&rsquo\;re invited to join us for the October Chamber Luncheon sponsored by Jackson Thornton!</strong></span><br />\n<br />\n<span data-offset-key="3pg81-4-0" style="white-space: pre-wrap\;"><span data-text="true">Gain a little knowledge while building your connections by joining the Prattville Area Chamber of Commerce and our members for the Chamber Champion Luncheon sponsored by Jackson Thornton. The Chamber&#39\;s Monthly Luncheons are a great opportunity to connect with other business leaders in the area and each month is educational and completely different.</span></span></span></span><br />\n&nbsp\;</p>\n\n<p><span style="font-size: 16px\;"><span style="font-family: arial\; white-space: pre-wrap\;">Make your reservation and join us for a Chamber Luncheon with your Prattville Chamber! </span><em style="font-family: arial\;"><span style="font-style: normal\;">This is a great networking opportunity.&nbsp\;Bring your business cards!</span></em></span><br />\n<br />\n<span style="font-family: arial\;"><span style="font-size: 16px\;"><strong><span style="color: rgb(255\, 0\, 0)\;">Member login information is not available. If you are a member click the blue</span>&nbsp\;&quot\;<a href="https://prattvillechamber.chambermaster.com/eventregistration/register/2097"><u>register now</u></a>&quot\;&nbsp\;<span style="color: rgb(255\, 0\, 0)\;">button and use the &quot\;<u>Not a Member</u>&quot\; link in the upper right side of the page to complete your online registration. You may also register by clicking the link below:</span></strong><br />\n<br />\n<a href="https://prattvillechamber.chambermaster.com/eventregistration/register/2097"><u><strong>Click here to register for the October&nbsp\;Monthly Luncheon</strong></u></a></span></span><br />\n<u style="color: rgb(51\, 51\, 51)\; font-family: sans-serif\, Arial\, Verdana\, &quot\;Trebuchet MS&quot\;\; font-size: 14px\; background-color: rgb(255\, 255\, 255)\;"><strong><span style="font-size:16px\;">To avoid billing\, a 24 hour notice is required for cancellations.&nbsp\;</span></strong></u><br />\n<br />\n<span style="font-family: arial\;"><span style="font-size: 16px\;"><span style="color: rgb(255\, 0\, 0)\;"><strong>Ticket sales end&nbsp\;on Monday\, October 16th at noon.</strong></span></span></span></p>\n
LOCATION:Catfish House 3011 Cobbs Ford Road Millbrook\, AL 36054
UID:e.1954.2097
SEQUENCE:3
DTSTAMP:20260423T110407Z
URL:https://online.prattvillechamber.com/events/details/october-chamber-luncheon-sponsored-by-jackson-thornton-2097
END:VEVENT

END:VCALENDAR
