BEGIN:VCALENDAR
VERSION:2.0
PRODID:-//ChamberMaster//Event Calendar 2.0//EN
METHOD:PUBLISH
X-PUBLISHED-TTL:P3D
REFRESH-INTERVAL:P3D
CALSCALE:GREGORIAN
BEGIN:VEVENT
DTSTART:20230130T173000Z
DTEND:20230130T190000Z
X-MICROSOFT-CDO-ALLDAYEVENT:FALSE
SUMMARY:Lunch and Learn | Hometown Hospitality
DESCRIPTION:Join us for a networking and learning opportunity January 30\, 2023\, from 11:30 AM - 1:00 PM\, at the Prattville Area Chamber of Commerce for a Lunch and Learn!\n\n\n\nThis luncheon will cover:\n\n	Customer service skills\n	Attract and retain customers\n	Tourism customer service tools\n\n This is for:\n\n\n	Business owners\n	Hotels\n	Restaurants\n	Retails\n	Beauty//hair\n	So much more!
X-ALT-DESC;FMTTYPE=text/html:<span style="font-size:14px\;">Join us for a networking and learning opportunity January 30\, 2023\, from 11:30 AM - 1:00 PM\, at the Prattville Area Chamber of Commerce for a Lunch and Learn!<br />\n<br />\nThis luncheon will cover:</span>\n<ul>\n	<li><span style="font-size:14px\;">Customer service skills</span></li>\n	<li><span style="font-size:14px\;">Attract and retain customers</span></li>\n	<li><span style="font-size:14px\;">Tourism customer service tools</span></li>\n</ul>\n<span style="font-size:14px\;"> This is for:</span>\n\n<ul>\n	<li><span style="font-size:14px\;">Business owners</span></li>\n	<li><span style="font-size:14px\;">Hotels</span></li>\n	<li><span style="font-size:14px\;">Restaurants</span></li>\n	<li><span style="font-size:14px\;">Retails</span></li>\n	<li><span style="font-size:14px\;">Beauty//hair</span></li>\n	<li><span style="font-size:14px\;">So much more!</span></li>\n</ul>\n
LOCATION:Prattville Area Chamber of Commerce 131 N Court St. Prattville\, AL 36067
UID:e.1954.2028
SEQUENCE:3
DTSTAMP:20260424T011448Z
URL:https://online.prattvillechamber.com/events/details/lunch-and-learn-hometown-hospitality-2028
END:VEVENT

END:VCALENDAR
