BEGIN:VCALENDAR
VERSION:2.0
PRODID:-//ChamberMaster//Event Calendar 2.0//EN
METHOD:PUBLISH
X-PUBLISHED-TTL:P3D
REFRESH-INTERVAL:P3D
CALSCALE:GREGORIAN
BEGIN:VEVENT
DTSTART:20230629T123000Z
DTEND:20230629T140000Z
X-MICROSOFT-CDO-ALLDAYEVENT:FALSE
SUMMARY:Legislative Wrap-Up Breakfast
DESCRIPTION:The Prattville Area Chamber of Commerce cordially invites you to a Legislative Wrap-Up Breakfast!\n\n\n\nHear an update from Senator Clyde Chambliss\, Representative Van Smith\, Representative Kelvin Lawrence\, and Representative Jerry Starnes.\n\n\nWhen: Thursday\, June 29\, 2023 | 7:30 A.M.\n\nWhere: Marriott Legends\, Prattville\, AL\n\nTickets: $10\n\n\n\nMember login information is not available. If you are a member click the blue "register now" button and use the "Not a Member" link in the upper right side of the page to complete your online registration. You may also register by clicking the link below:\n\n\n\nClick here to register. \n\n\n\nTicket sales end on Tuesday\, June 27\, at noon.
X-ALT-DESC;FMTTYPE=text/html:<div><span style="font-size:18px\;"><strong>The Prattville Area Chamber of Commerce cordially invites you to a Legislative Wrap-Up&nbsp\;Breakfast!</strong></span><br />\n<br />\n<span style="font-size:18px\;"><span style="color:#050505\;"><span style="font-family:segoe ui historic\,sans-serif\;">Hear an update from Senator Clyde Chambliss\, Representative Van Smith\, Representative Kelvin Lawrence\, and Representative Jerry Starnes.</span></span></span></div>\n<br />\n<span style="font-size:18px\;">When: Thursday\, June 29\, 2023 | 7:30 A.M.<br />\nWhere: Marriott Legends\, Prattville\, AL<br />\nTickets: $10</span><br />\n<br />\n<span style="color: rgb(51\, 51\, 51)\; font-size: 13px\; background-color: rgb(255\, 255\, 255)\; font-family: arial\;"><span style="font-size: 16px\;"><strong><span style="color: rgb(255\, 0\, 0)\;">Member login information is not available. If you are a member click the blue</span><a href="https://prattvillechamber.chambermaster.com/eventregistration/register/2075">&nbsp\;&quot\;</a><a href="https://prattvillechamber.chambermaster.com/eventregistration/register/2075"><u>register now</u></a><a href="https://prattvillechamber.chambermaster.com/eventregistration/register/2075">&quot\;</a>&nbsp\;<span style="color: rgb(255\, 0\, 0)\;">button and use the &quot\;<u>Not a Member</u>&quot\; link in the upper right side of the page to complete your online registration. You may also register by clicking the link below:</span></strong></span></span><br />\n<br />\n<a href="https://prattvillechamber.chambermaster.com/eventregistration/register/2075"><span style="color:#0000FF\;"><span style="font-size:18px\;">Click here to register.&nbsp\;</span></span></a><br />\n<br />\n<strong style="color: rgb(255\, 0\, 0)\; font-family: arial\; font-size: 16px\; background-color: rgb(255\, 255\, 255)\;">Ticket sales end&nbsp\;on Tuesday\, June 27\, at noon.</strong>
LOCATION:Marriott Legends 2500 Legends Circle Drive Prattville\, AL
UID:e.1954.2075
SEQUENCE:3
DTSTAMP:20260423T170424Z
URL:https://online.prattvillechamber.com/events/details/legislative-wrap-up-breakfast-2075
END:VEVENT

END:VCALENDAR
