BEGIN:VCALENDAR
VERSION:2.0
PRODID:-//ChamberMaster//Event Calendar 2.0//EN
METHOD:PUBLISH
X-PUBLISHED-TTL:P3D
REFRESH-INTERVAL:P3D
CALSCALE:GREGORIAN
BEGIN:VEVENT
DTSTART:20230224T133000Z
DTEND:20230224T150000Z
X-MICROSOFT-CDO-ALLDAYEVENT:FALSE
SUMMARY:Legislative Preview Breakfast
DESCRIPTION:The Prattville Area Chamber of Commerce cordially invites you to a Legislative Preview Breakfast!\n\n\nWhen: Friday\, February 24\, 2023 | 7:30 A.M.\n\nWhere: Marriott Legends\, Prattville\, AL\n\nTickets: $10\n\n\n\nMember login information is not available. If you are a member click the blue "register now" button and use the "Not a Member" link in the upper right side of the page to complete your online registration. You may also register by clicking the link below:\n\n\n\nClick here to register. \n\n\n\nTicket sales end on Wednesday\, February 22nd at noon.
X-ALT-DESC;FMTTYPE=text/html:<div><span style="font-size:18px\;"><strong>The Prattville Area Chamber of Commerce cordially invites you to a Legislative Preview Breakfast!</strong></span></div>\n<br />\n<span style="font-size:18px\;">When: Friday\, February 24\, 2023 | 7:30 A.M.<br />\nWhere: Marriott Legends\, Prattville\, AL<br />\nTickets: $10</span><br />\n<br />\n<span style="color: rgb(51\, 51\, 51)\; font-size: 13px\; background-color: rgb(255\, 255\, 255)\; font-family: arial\;"><span style="font-size: 16px\;"><strong><span style="color: rgb(255\, 0\, 0)\;">Member login information is not available. If you are a member click the blue</span>&nbsp\;&quot\;<a href="https://prattvillechamber.chambermaster.com/eventregistration/register/2037" style="color: rgb(7\, 130\, 193)\;"><u>register now</u></a>&quot\;&nbsp\;<span style="color: rgb(255\, 0\, 0)\;">button and use the &quot\;<u>Not a Member</u>&quot\; link in the upper right side of the page to complete your online registration. You may also register by clicking the link below:</span></strong></span></span><br />\n<br />\n<a href="https://prattvillechamber.chambermaster.com/eventregistration/register/2048"><span style="color:#0000FF\;"><span style="font-size:18px\;">Click here to register.&nbsp\;</span></span></a><br />\n<br />\n<strong style="color: rgb(255\, 0\, 0)\; font-family: arial\; font-size: 16px\; background-color: rgb(255\, 255\, 255)\;">Ticket sales end&nbsp\;on Wednesday\, February 22nd at noon.</strong>
LOCATION:Marriott Legends 2500 Legends Circle Drive Prattville\, AL
UID:e.1954.2048
SEQUENCE:3
DTSTAMP:20260423T233229Z
URL:https://online.prattvillechamber.com/events/details/legislative-preview-breakfast-2048
END:VEVENT

END:VCALENDAR
