BEGIN:VCALENDAR
VERSION:2.0
PRODID:-//ChamberMaster//Event Calendar 2.0//EN
METHOD:PUBLISH
X-PUBLISHED-TTL:P3D
REFRESH-INTERVAL:P3D
CALSCALE:GREGORIAN
BEGIN:VEVENT
DTSTART;VALUE=DATE:20210323
DTEND;VALUE=DATE:20210325
TRANSP:TRANSPARENT
X-MICROSOFT-CDO-ALLDAYEVENT:TRUE
SUMMARY:Leadership Skills 1: Live Virtual Training- March 23-24
DESCRIPTION:Leadership I Skills Training - AIDT Leadership Development training program introduces team leaders\, supervisors and managers to effective leadership responsibilities\, communication skills\, teamwork and motivational techniques.\n\n\n\nThis two-day live virtual online course will focus on skills that all leaders need to be effective. This course is a prerequisite for AIDT's Leadership II Training Class. \n\n\n\nIn order to participate\, registrants will need the following: \n\n \n\n  Access to WiFi via a Smart Phone (not ideal)\, tablet or laptop with camera and microphone. \n\n  A hard copy of the workbook will be mailed to participants\, once accepted. \n\n  Multiple students CAN use the same room\, if each has ear buds equipped with microphones.\n\n  Best option is to isolate students in an office or at home. \n\n\n\nClass size is limited to the first 20 registrants\, so make your reservation early! Attendees must participate both days and pass an exam at the end of the course to receive AIDT's Certified Leadership I certification. \n\n\n\nClick Here to see the course outline\n\n\n\nFor Questions or Registration\, contact Sabrina Wood: swood@centralalabamaworks.com or call 334-429-8832\n\n\n\n\n\nMust Register BEFORE March 9\, 2021 to participate.
X-ALT-DESC;FMTTYPE=text/html:<strong><span style="font-family: arial\, sans-serif\;"><span style="font-size: 12pt\;">Leadership I Skills Training</span></span></strong><span style="font-family: arial\, sans-serif\;"><span style="font-size: 12pt\;">&nbsp\;- AIDT Leadership Development training program introduces team leaders\, supervisors and managers to effective leadership responsibilities\, communication skills\, teamwork and motivational techniques.<br />\n<br />\nThis two-day live virtual online course will focus on skills that all leaders need to be effective. This course is a prerequisite for AIDT&#39\;s Leadership II Training Class.&nbsp\;</span></span><br />\n<br />\n<strong><span book="" style="font-family: "><span style="font-size: 12pt\;">In order to participate\, registrants will need the following:&nbsp\;</span></span></strong><br />\n&nbsp\;<br />\n<span style="color: black\;"><span style="font-family: symbol\;"><span style="font-size: 12pt\;">&middot\;</span></span></span>&nbsp\;<span book="" style="font-family: "><span style="font-size: 12pt\;">Access to WiFi via a Smart Phone (not ideal)\, tablet or laptop with camera and microphone.&nbsp\;</span></span><br />\n<span style="color: black\;"><span style="font-family: symbol\;"><span style="font-size: 12pt\;">&middot\;</span></span></span>&nbsp\;<span book="" style="font-family: "><span style="font-size: 12pt\;">A hard copy of the workbook will be mailed to&nbsp\;participants\, once accepted.&nbsp\;</span></span><br />\n<span style="color: black\;"><span style="font-family: symbol\;"><span style="font-size: 12pt\;">&middot\;</span></span></span>&nbsp\;<span book="" style="font-family: "><span style="font-size: 12pt\;">Multiple students CAN use the same room\, if each has ear buds equipped with microphones.</span></span><br />\n<span style="color: black\;"><span style="font-family: symbol\;"><span style="font-size: 12pt\;">&middot\;</span></span></span>&nbsp\;<span book="" style="font-family: "><span style="font-size: 12pt\;">Best option is to isolate students in an office or at home.&nbsp\;</span></span><br />\n<br />\n<span style="font-family: arial\, sans-serif\; font-size: 16px\;"><strong>Class size is limited to the first 20 registrants\, so make your reservation early! </strong>Attendees must participate both days and pass an exam at the end of the course to receive AIDT&#39\;s Certified Leadership I certification.&nbsp\;</span><br />\n<br />\n<a href="https://www.aidt.edu/leadership-skills-1-outline/" style="font-family: arial\, sans-serif\; font-size: 16px\;"><span style="color: rgb(0\, 0\, 128)\;"><u><strong>Click Here to see the course outline</strong></u></span></a><br />\n<br />\n<strong><span style="font-size: 20px\;">For Questions or Registration\, contact Sabrina Wood:&nbsp\;<u><a href="mailto:swood@centralalabamaworks.com?subject=Leadership%20!%20Virtual%20Training">swood@centralalabamaworks.com</a></u>&nbsp\;or call 334-429-8832</span></strong><br />\n<br />\n<br />\n<strong><span style="color: red\;"><span style="font-family: arial\, sans-serif\;"><span style="font-size: 15pt\;">Must Register BEFORE March 9\, 2021 to participate.&nbsp\;</span></span></span></strong>
LOCATION:Virtual Training in Your Home or Office
UID:e.1954.1904
SEQUENCE:3
DTSTAMP:20260425T135845Z
URL:https://online.prattvillechamber.com/events/details/leadership-skills-1-live-virtual-training-march-23-24-1904
END:VEVENT

END:VCALENDAR
