BEGIN:VCALENDAR
VERSION:2.0
PRODID:-//ChamberMaster//Event Calendar 2.0//EN
METHOD:PUBLISH
X-PUBLISHED-TTL:P3D
REFRESH-INTERVAL:P3D
CALSCALE:GREGORIAN
BEGIN:VEVENT
DTSTART:20211208T210000Z
DTEND:20211209T000000Z
X-MICROSOFT-CDO-ALLDAYEVENT:FALSE
SUMMARY:Industrial Job Fair
DESCRIPTION:Looking for employment opportunities? Come out to the industrial job fair!\n\n\n\nThe Prattville Area Chamber of Commerce Economic Development and Workforce Development Committee and the Prattville Area Industry Council will host an industrial job fair on Dec. 8\, 2021. The event is to be held at the Doster Center\, located at 424 South Northington Street\, Prattville\, AL 36067.\n\n\n\nThis public hiring event is designed to help job seekers find industry-related quality jobs\, change careers\, or explore employment options in the Prattville and Autauga County area.\n\n\n\nJob seekers will have an opportunity to meet one-on-one with local employers currently seeking motivated individuals. Representatives from these area manufacturers will be on site to review resumes\, as well as assist potential employees in the application process.\n\n\n\nJob seekers are strongly encouraged to bring a copy of their resume. The Alabama Department of Labor's AlabamaWorks bus will also be on site to help job seekers create a resume.\n\n\n\nThe purpose of the Prattville Area Industry Council is to meet the needs of local industries in partnership with Central Alabama Community College and Autauga County Technology Center\, by implementing programs for students to ensure a career path and a growing pipeline of employees for industries located in Autauga County.\n\n\n\nThe mission of the Prattville Area Chamber of Commerce is to strengthen the business environment and our community. For more information\, please contact the Prattville Chamber at info@prattvillechamber.com or 334.365.7392.
X-ALT-DESC;FMTTYPE=text/html:<span style="color:black\;"><span style="font-size:12.0pt\;">Looking for employment opportunities? Come out to the industrial job fair!<br />\n<br />\nThe</span></span> <span style="color:black\;"><a href="https://www.prattvillechamber.com/"><span style="font-size:12.0pt\;">Prattville Area Chamber of Commerce</span></a></span><span style="color:#050505\;"><span style="font-size:12.0pt\;"> Economic Development and Workforce Development Committee and the Prattville Area Industry Council will host an industrial job fair on Dec. 8\, 2021. The event is to be held at the Doster Center\, located at 424 South Northington Street\, Prattville\, AL 36067.</span></span><br />\n<br />\n<span style="color:#050505\;"><span style="font-size:12.0pt\;">This public hiring event is designed to help job seekers find industry-related quality jobs\, change careers\, or explore employment options in the Prattville and Autauga County area.</span></span><br />\n<br />\n<span style="color:black\;"><span style="font-size:12.0pt\;">Job seekers will have an opportunity to meet one-on-one with local employers currently seeking motivated individuals. Representatives from these area manufacturers will be on site to review resumes\, as well as assist potential employees in the application process.</span></span><br />\n<br />\n<span style="color:#050505\;"><span style="font-size:12.0pt\;">Job seekers are strongly encouraged to bring a copy of their resume. The Alabama Department of Labor&rsquo\;s AlabamaWorks bus will also be on site to help job seekers create a resume.</span></span><br />\n<br />\n<span style="color:#050505\;"><span style="font-size:12.0pt\;">The purpose of the Prattville Area Industry Council is to meet the needs of local industries in partnership with Central Alabama Community College and Autauga County Technology Center\, by implementing programs for students to ensure a career path and a growing pipeline of employees for industries located in Autauga County.</span></span><br />\n<br />\n<span style="color:#050505\;"><span style="font-size:12.0pt\;">The mission of the Prattville Area Chamber of Commerce is to&nbsp\;strengthen the business environment and our community. For more information\, please contact the Prattville Chamber at </span></span><span style="color:black\;"><a href="mailto:info@prattvillechamber.com"><span style="font-size:12.0pt\;">info@prattvillechamber.com</span></a></span><span style="color:#050505\;"><span style="font-size:12.0pt\;"> or<tcxspan tcxhref="3343657392" title="Call  334.365.7392.  via 3CX"> 334.365.7392. </tcxspan></span></span><br />\n&nbsp\;
LOCATION:Doster Center 424 South Northington Street\, Prattville\, AL 36067
UID:e.1954.1942
SEQUENCE:3
DTSTAMP:20260424T221911Z
URL:https://online.prattvillechamber.com/events/details/industrial-job-fair-1942
END:VEVENT

END:VCALENDAR
