BEGIN:VCALENDAR
VERSION:2.0
PRODID:-//ChamberMaster//Event Calendar 2.0//EN
METHOD:PUBLISH
X-PUBLISHED-TTL:P3D
REFRESH-INTERVAL:P3D
CALSCALE:GREGORIAN
BEGIN:VEVENT
DTSTART:20230126T160000Z
DTEND:20230126T170000Z
X-MICROSOFT-CDO-ALLDAYEVENT:FALSE
SUMMARY:iFoam Ribbon Cutting
DESCRIPTION:Ribbon Cutting
X-ALT-DESC;FMTTYPE=text/html:Ribbon Cutting
LOCATION:1390 Highway 82 Byp E Prattville\, AL 36067
UID:e.1954.2031
SEQUENCE:3
DTSTAMP:20260424T011432Z
URL:https://online.prattvillechamber.com/events/details/ifoam-ribbon-cutting-2031
END:VEVENT

END:VCALENDAR
