BEGIN:VCALENDAR
VERSION:2.0
PRODID:-//ChamberMaster//Event Calendar 2.0//EN
METHOD:PUBLISH
X-PUBLISHED-TTL:P3D
REFRESH-INTERVAL:P3D
CALSCALE:GREGORIAN
BEGIN:VEVENT
DTSTART:20230626T223000Z
DTEND:20230627T000000Z
X-MICROSOFT-CDO-ALLDAYEVENT:FALSE
SUMMARY:Iceland's Magical Northern Lights | Collette Tours Interest Meeting
DESCRIPTION:Would you like to take an amazing vacation in the spring of 2024? Join the Prattville Area Chamber of Commerce and Collette Tours on a trip of a lifetime! We are hosting an interest meeting for the Iceland's Magical Northern Lights trip June 26\, at 5:30 P.M. \n\n\nExperience the "land of fire and ice" and chase the aurora borealis across an ethereal wonderland. In the dark of the night\, search for the northern lights as you drift along on an evening starlit cruise. Travel the "Golden Circle\," home to renowned natural wonders\, and spend time at Thingvellir National Park\, gaze at Gullfoss waterfall\, and see the explosive geothermal fields at Geysir. Explore Sk gar Museum and see traditional turf-built homes. Walk on a black volcanic sand beach. See J kuls rl n glacial lagoon filled with floating icebergs. Relax in the warm\, mineral-rich water of the Blue Lagoon. Spend your days surrounded by natural wonders and your nights in search of the elusive dancing lights. \n\n\n\nFor more information about Iceland's Magical Northern Lights\, please click here.\n\n\n\nQuestions regarding the interest meeting? Please contact the Prattville Area Chamber of Commerce at 334.365.7392.
X-ALT-DESC;FMTTYPE=text/html:<div><strong><span style="font-family:arial\;"><span style="font-size:14px\;"><span style="font-size:18px\;"><span style="white-space: pre-wrap\;"><span style="color:#000000\;">Would you like to take an amazing vacation in the spring of 2024? Join the </span><a class="oajrlxb2 g5ia77u1 qu0x051f esr5mh6w e9989ue4 r7d6kgcz rq0escxv nhd2j8a9 nc684nl6 p7hjln8o kvgmc6g5 cxmmr5t8 oygrvhab hcukyx3x jb3vyjys rz4wbd8a qt6c0cv9 a8nywdso i1ao9s8h esuyzwwr f1sip0of lzcic4wl gpro0wi8 q66pz984 b1v8xokw" href="https://www.facebook.com/prattvillechamber/?__cft__[0]=AZXGKTQoUZ0APfi7xsaGSdFub6JPMpCYd7SndPcb-gfhPHBy5PzkBPQCONQkbd9BS9d6fWyNiXbLX0pdMsGUBPof_k1enw9pqvHA0JRZe6kAUwLXH8KOvrsfLoDBD6x2Ox4&amp\;__tn__=kK-R" role="link" style="color: var(--accent)\; cursor: pointer\; text-decoration-line: none\; outline: none\; list-style: none\; border-width: 0px\; border-style: initial\; border-color: initial\; padding: 0px\; margin: 0px\; touch-action: manipulation\; background-color: transparent\; text-align: inherit\; display: inline\; -webkit-tap-highlight-color: transparent\; box-sizing: border-box\; font-family: inherit\;" tabindex="0"><span style="color:#000000\;"><span class="nc684nl6" style="display: inline\;">Prattville Area Chamber of Commerce</span></span></a><span style="color:#000000\;"> and </span></span></span><span style="white-space: pre-wrap\;"><span style="font-size:18px\;"><a class="oajrlxb2 g5ia77u1 qu0x051f esr5mh6w e9989ue4 r7d6kgcz rq0escxv nhd2j8a9 nc684nl6 p7hjln8o kvgmc6g5 cxmmr5t8 oygrvhab hcukyx3x jb3vyjys rz4wbd8a qt6c0cv9 a8nywdso i1ao9s8h esuyzwwr f1sip0of lzcic4wl gpro0wi8 q66pz984 b1v8xokw" href="https://www.facebook.com/GoCollette/?__cft__[0]=AZXGKTQoUZ0APfi7xsaGSdFub6JPMpCYd7SndPcb-gfhPHBy5PzkBPQCONQkbd9BS9d6fWyNiXbLX0pdMsGUBPof_k1enw9pqvHA0JRZe6kAUwLXH8KOvrsfLoDBD6x2Ox4&amp\;__tn__=kK-R" role="link" style="color: var(--accent)\; cursor: pointer\; text-decoration-line: none\; outline: none\; list-style: none\; border-width: 0px\; border-style: initial\; border-color: initial\; padding: 0px\; margin: 0px\; touch-action: manipulation\; background-color: transparent\; text-align: inherit\; display: inline\; -webkit-tap-highlight-color: transparent\; box-sizing: border-box\; font-family: inherit\;" tabindex="0"><span style="color:#000000\;"><span class="nc684nl6" style="display: inline\;">Collette</span></span></a><span style="color:#000000\;"> Tours on a trip of a lifetime! </span></span></span></span></span><span style="color:#000000\;"><span style="font-size:18px\;">We are hosting an interest meeting for the Iceland&#39\;s Magical Northern Lights&nbsp\;trip June 26\, at 5:30 P.M.&nbsp\;</span></span></strong></div>\n<br />\n<span style="color:#000000\;"><span style="font-family:arial\,sans-serif\;"><span style="font-size:12.0pt\;">Experience the &ldquo\;land of fire and ice&rdquo\; and chase the aurora borealis across an ethereal wonderland. In the dark of the night\, search for the northern lights as you drift along on an evening starlit cruise. Travel the &ldquo\;Golden Circle\,&rdquo\; home to renowned natural wonders\, and spend time at Thingvellir National Park\, gaze at Gullfoss waterfall\, and see the explosive geothermal fields at Geysir. Explore Sk&oacute\;gar Museum and see traditional turf-built homes. Walk on a black volcanic sand beach. See J&ouml\;kuls&aacute\;rl&oacute\;n glacial lagoon filled with floating icebergs. Relax in the warm\, mineral-rich water of the Blue Lagoon. Spend your days surrounded by natural wonders and your nights in search of the elusive dancing lights.&nbsp\;</span></span></span><br />\n<br />\n<span style="font-family:arial\;"><span style="font-size:16px\;"><a href="https://gateway.gocollette.com/link/1122106"><u><em><strong><span style="color:#FF0000\;">For more information about Iceland&#39\;s Magical Northern Lights\, please click </span></strong></em></u></a><u><em><strong><a href="https://gateway.gocollette.com/link/1122106"><span style="color:#FF0000\;">here</span></a></strong></em></u><a href="https://gateway.gocollette.com/link/1122106"><u><em><strong><span style="color:#FF0000\;">.</span></strong></em></u></a><br />\n<br />\n<span style="color:#000000\;">Questions regarding the interest meeting? Please contact the Prattville Area Chamber of Commerce at<tcxspan tcxhref="3343657392" title="Call  334.365.7392. via 3CX"> 334.365.7392.</tcxspan></span></span></span>
LOCATION:Prattville Area Chamber of Commerce 131 North Court Street Prattville\, AL 36066
UID:e.1954.2081
SEQUENCE:3
DTSTAMP:20260423T170854Z
URL:https://online.prattvillechamber.com/events/details/iceland-s-magical-northern-lights-collette-tours-interest-meeting-2081
END:VEVENT

END:VCALENDAR
