BEGIN:VCALENDAR
VERSION:2.0
PRODID:-//ChamberMaster//Event Calendar 2.0//EN
METHOD:PUBLISH
X-PUBLISHED-TTL:P3D
REFRESH-INTERVAL:P3D
CALSCALE:GREGORIAN
BEGIN:VEVENT
DTSTART:20230620T200000Z
DTEND:20230620T230000Z
X-MICROSOFT-CDO-ALLDAYEVENT:FALSE
SUMMARY:Hiring Event - Autauga and Elmore County
DESCRIPTION:The Prattville Area Chamber of Commerce Economic Development and Workforce Development Committee and the Prattville Area Industry Council will host a hiring event on June 20\, 2023 in partnership with Central AlabamaWorks\, the Millbrook Area Chamber of Commerce\, and the Wetumpka Area Chamber of Commerce. The event is to be held from 3:00-6:00 P.M. at Central Alabama Community College at 1320 Old Ridge Rd\, Prattville\, AL. \n\n\n\nThis public hiring event is designed to help job seekers find quality jobs\, change careers\, or explore employment options in Central Alabama.\n\n\n\nJob seekers will have an opportunity to meet one-on-one with local employers currently seeking motivated individuals.\n\n\n\nThe mission of the Prattville Area Chamber of Commerce is to strengthen the business environment and our community. For more information\, please contact the Prattville Chamber at info@prattvillechamber.com or 334.365.7392.\n\n\n\n Employer Registration Link:\n\n https://centralalabamaworks.formstack.com/forms/8_25_business_registration
X-ALT-DESC;FMTTYPE=text/html:<span style="color:black\;"><span style="font-size:12.0pt\;">The</span></span> <span style="color:black\;"><span style="font-size:12.0pt\;">Prattville Area Chamber of Commerce</span></span><span style="color:#050505\;"><span style="font-size:12.0pt\;"> Economic Development and Workforce Development Committee and the Prattville Area Industry Council will host a hiring event on June 20\, 2023 in partnership with </span></span><span style="color:black\;"><span style="font-size:12.0pt\;">Central AlabamaWorks</span></span><span style="color:#050505\;"><span style="font-size:12.0pt\;">\, t</span></span><span style="color:black\;"><span style="font-size:12.0pt\;">he&nbsp\;</span></span><span style="color:black\;"><span style="font-size:12.0pt\;">Millbrook Area Chamber</span></span><span style="font-size:12.0pt\;"> of Commerce</span><span style="color:#050505\;"><span style="font-size:12.0pt\;">\, and the&nbsp\;</span></span><span style="color:black\;"><span style="font-size:12.0pt\;">Wetumpka Area Chamber of Commerce</span></span><span style="font-size: 12pt\;"><font color="#050505">. The event is to be held from 3:00-6:00 P.M. at </font><font color="#000000">Central Alabama Community College at 1320 Old Ridge Rd\, Prattville\, AL.&nbsp\;</font></span><br />\n<br />\n<span style="color:#050505\;"><span style="font-size:12.0pt\;">This public hiring event is designed to help job seekers find quality jobs\, change careers\, or explore employment options in Central Alabama.</span></span><br />\n<br />\n<span style="color:black\;"><span style="font-size:12.0pt\;">Job seekers will have an opportunity to meet one-on-one with local employers currently seeking motivated individuals.</span></span><br />\n<br />\n<span style="color:#050505\;"><span style="font-size:12.0pt\;">The mission of the Prattville Area Chamber of Commerce is to&nbsp\;strengthen the business environment and our community. For more information\, please contact the Prattville Chamber at </span></span><span style="color:black\;"><a href="mailto:info@prattvillechamber.com"><span style="font-size:12.0pt\;">info@prattvillechamber.com</span></a></span><span style="color:#050505\;"><span style="font-size:12.0pt\;"> or<tcxspan tcxhref="3343657392" title="Call  334.365.7392.  via 3CX"> 334.365.7392.</tcxspan></span></span><br />\n<br />\n<span style="font-size:18px\;"><span style="font-family:arial\;"><strong>&nbsp\;<span style="background:white\;">Employer Registration Link</span></strong></span><span style="background:white\;"><span style="color:#455560\;"><span style="font-family:poppins\;">:<br />\n&nbsp\;</span></span></span><span style="font-family:calibri\,sans-serif\;"><a href="https://centralalabamaworks.formstack.com/forms/8_25_business_registration"><span style="background:white\;"><span style="color:blue\;"><span style="font-family:poppins\;">https://centralalabamaworks.formstack.com/forms/8_25_business_registration</span></span></span></a></span></span><span style="color:#050505\;"><span style="font-size:12.0pt\;"><tcxspan tcxhref="3343657392" title="Call  334.365.7392.  via 3CX"></tcxspan></span></span><br />\n&nbsp\;
LOCATION:Central Alabama Community College 1320 Old Ridge Rd\, Prattville\, AL 36066
UID:e.1954.2076
SEQUENCE:3
DTSTAMP:20260423T170610Z
URL:https://online.prattvillechamber.com/events/details/hiring-event-autauga-and-elmore-county-2076
END:VEVENT

END:VCALENDAR
