BEGIN:VCALENDAR
VERSION:2.0
PRODID:-//ChamberMaster//Event Calendar 2.0//EN
METHOD:PUBLISH
X-PUBLISHED-TTL:P3D
REFRESH-INTERVAL:P3D
CALSCALE:GREGORIAN
BEGIN:VEVENT
DTSTART:20221004T210000Z
DTEND:20221004T213000Z
X-MICROSOFT-CDO-ALLDAYEVENT:FALSE
SUMMARY:Groundbreaking | Prattville Early Learning Center
DESCRIPTION:The Prattville Area Chamber of Commerce is excited to host a groundbreaking for Autauga County Schools in recognition of the new Prattville Early Learning Center on October 4 at 4:00 P.M. Join us as we celebrate the advancement of education in Autauga County!\n\nThere is no current address for the Prattville Early Learning Center. The groundbreaking will take place across from the Prattville YMCA Field of Dreams\, located at 972 McQueen Smith Road in Prattville. For more information\, please contact the Prattville Chamber team at 334.365.7392.
X-ALT-DESC;FMTTYPE=text/html:<div class="m8h3af8h l7ghb35v kjdc1dyq kmwttqpk gh25dzvf n3t5jt4f" color:="" font-size:="" segoe="" style="overflow-wrap: break-word\; margin: 0px\; white-space: pre-wrap\; font-family: " ui="">\n<div dir="auto" style="font-family: inherit\;"><span style="font-family: Arial\, Verdana\, Helvetica\, sans-serif\; font-size: 14px\; white-space: pre-wrap\; color: rgb(224\, 27\, 27)\; font-weight: bold\;">The Prattville Area Chamber of Commerce is excited to host a groundbreaking for Autauga County Schools in recognition of the new Prattville Early Learning Center on October 4 at 4:00 P.M. </span><span style="font-family: Arial\, Verdana\, Helvetica\, sans-serif\; font-size: 14px\; white-space: pre-wrap\; color: rgb(20\, 20\, 20)\;">Join us as we celebrate the advancement of education in Autauga County!<br />\nThere is no current address for the Prattville Early Learning Center. The groundbreaking will take place across from the Prattville YMCA Field of Dreams\, located at 972 McQueen Smith Road in Prattville. For more information\, please contact the Prattville Chamber team at<tcxspan tcxhref="3343657392" title="Call  334.365.7392. via 3CX"> 334.365.7392.</tcxspan></span><br />\n<tcxspan tcxhref="3343657392" title="Call  334.365.7392. via 3CX"></tcxspan></div>\n</div>\n
LOCATION:There is no current address for the Prattville Early Learning Center. The groundbreaking will take place across from the YMCA Field of Dreams\, located at 972 McQueen Smith Rd Prattville\, AL.
UID:e.1954.2009
SEQUENCE:3
DTSTAMP:20260424T063112Z
URL:https://online.prattvillechamber.com/events/details/groundbreaking-prattville-early-learning-center-2009
END:VEVENT

END:VCALENDAR
