BEGIN:VCALENDAR
VERSION:2.0
PRODID:-//ChamberMaster//Event Calendar 2.0//EN
METHOD:PUBLISH
X-PUBLISHED-TTL:P3D
REFRESH-INTERVAL:P3D
CALSCALE:GREGORIAN
BEGIN:VEVENT
DTSTART:20230331T150000Z
DTEND:20230331T153000Z
X-MICROSOFT-CDO-ALLDAYEVENT:FALSE
SUMMARY:Groundbreaking | Interstate Business Park
DESCRIPTION:The Autauga County Industrial Development Board\, the Autauga County Commission\, and the Prattville Area Chamber of Commerce invite you to attend a groundbreaking ceremony on March 31st for the industrial spec building at the Interstate Business Park! This event will be held at 180 Jesse Samuel Hunt Blvd\, Prattville\, AL 36066.\n\nCome join this celebration highlighting the economic growth and development of Autauga County.
X-ALT-DESC;FMTTYPE=text/html:<div class="m8h3af8h l7ghb35v kjdc1dyq kmwttqpk gh25dzvf n3t5jt4f" color:="" font-size:="" segoe="" style="overflow-wrap: break-word\; margin: 0px\; white-space: pre-wrap\; font-family: " ui="">\n<div dir="auto" style="font-family: inherit\; text-align: center\;"><span style="font-size:18px\;"><span style="font-family:arial\;"><strong>The Autauga County Industrial Development Board\, the Autauga County Commission\, and the Prattville Area Chamber of Commerce invite you to attend a groundbreaking ceremony on March 31st for the industrial spec building at the Interstate Business Park! This event will be held at 180 Jesse Samuel Hunt Blvd\, Prattville\, AL 36066.</strong></span></span><br />\n<span style="font-size:18px\;"><span style="font-family:arial\;"><strong>Come join this celebration highlighting the economic growth and development of Autauga County.</strong></span></span></div>\n</div>\n
LOCATION:180 Jesse Samuel Hunt Blvd Prattville\, AL 36066
UID:e.1954.2058
SEQUENCE:3
DTSTAMP:20260423T215932Z
URL:https://online.prattvillechamber.com/events/details/groundbreaking-interstate-business-park-2058
END:VEVENT

END:VCALENDAR
