BEGIN:VCALENDAR
VERSION:2.0
PRODID:-//ChamberMaster//Event Calendar 2.0//EN
METHOD:PUBLISH
X-PUBLISHED-TTL:P3D
REFRESH-INTERVAL:P3D
CALSCALE:GREGORIAN
BEGIN:VEVENT
DTSTART:20220913T170000Z
DTEND:20220913T180000Z
X-MICROSOFT-CDO-ALLDAYEVENT:FALSE
SUMMARY:Groundbreaking | Interstate Business Park
DESCRIPTION:The Autauga County Industrial Development Board\, the Autauga County Commission and the Prattville Area Chamber of Commerce invite you to attend a groundbreaking ceremony on September 13 for the commercial and retail development at the Interstate Business Park. This event will be held at 103 Jesse Samuel Hunt Blvd\, Prattville\, AL 36066.\n\n\n\nPlease join us as we break ground for this highly anticipated project in the fast-growing Pine Level/Marbury area of Autauga County. Once completed\, this development will allow our residents to access goods and services closer to home. Come join this celebration highlighting the economic growth and development of Autauga County.
X-ALT-DESC;FMTTYPE=text/html:<div class="m8h3af8h l7ghb35v kjdc1dyq kmwttqpk gh25dzvf n3t5jt4f" color:="" font-size:="" segoe="" style="overflow-wrap: break-word\; margin: 0px\; white-space: pre-wrap\; font-family: " ui="">\n<div dir="auto" style="font-family: inherit\;">The Autauga County Industrial Development Board\, the Autauga County Commission and the Prattville Area Chamber of Commerce invite you to attend a groundbreaking ceremony on September 13 for the commercial and retail development at the Interstate Business Park. This event will be held at 103 Jesse Samuel Hunt Blvd\, Prattville\, AL 36066.</div>\n</div>\n\n<div class="l7ghb35v kjdc1dyq kmwttqpk gh25dzvf jikcssrz n3t5jt4f" color:="" font-size:="" segoe="" style="overflow-wrap: break-word\; margin: 0.5em 0px 0px\; white-space: pre-wrap\; font-family: " ui="">\n<div dir="auto" style="font-family: inherit\;">Please join us as we break ground for this highly anticipated project in the fast-growing Pine Level/Marbury area of Autauga County. Once completed\, this development will allow our residents to access goods and services closer to home. Come join this celebration highlighting the economic growth and development of Autauga County.</div>\n</div>\n
LOCATION:103 Jesse Samuel Hunt Blvd Prattville\, AL 36066
UID:e.1954.2003
SEQUENCE:3
DTSTAMP:20260424T080100Z
URL:https://online.prattvillechamber.com/events/details/groundbreaking-interstate-business-park-2003
END:VEVENT

END:VCALENDAR
