BEGIN:VCALENDAR
VERSION:2.0
PRODID:-//ChamberMaster//Event Calendar 2.0//EN
METHOD:PUBLISH
X-PUBLISHED-TTL:P3D
REFRESH-INTERVAL:P3D
CALSCALE:GREGORIAN
BEGIN:VEVENT
DTSTART:20251103T233000Z
DTEND:20251104T023000Z
X-MICROSOFT-CDO-ALLDAYEVENT:FALSE
SUMMARY:Dinner in the District | 2025
DESCRIPTION:SOLD OUT!\n\n\n\nJoin us for the 2025 Dinner in the District featuring live music\, outstanding food and community fellowship   all in the heart of Historic Downtown Prattville. Come enjoy a unique celebration seated on the banks of Autauga Creek overlooking the historic Danial Pratt Gin Factory. The open-air celebration kicks off with a cocktail hour followed by a multi-course meal.\n\n\n\n\n\nThis event is hosted by the Prattville Area of Chamber of Commerce in partnership with the City of Prattville and Southern Bite\, with support from the Autauga County Commission. \n\n\n\nClick here to get on the waiting list!
X-ALT-DESC;FMTTYPE=text/html:<div><span style="font-size:20px\;"><span style="font-family:times new roman\;"><span style="font-size:24px\;"><strong>SOLD OUT!</strong></span><br />\n<br />\nJoin us for the 2025&nbsp\;Dinner in the District featuring live music\, outstanding food and community fellowship&nbsp\;</span></span><strong><em><span style="font-family:times new roman\,serif\;"><span style="font-size:12.0pt\;">&ndash\;</span></span></em></strong><span style="font-size:20px\;"><span style="font-family:times new roman\;">&nbsp\;all in the heart of Historic Downtown Prattville. Come enjoy a unique celebration seated on the banks of Autauga Creek overlooking the historic Danial Pratt Gin Factory.&nbsp\;The open-air celebration kicks off with a cocktail hour followed by a multi-course meal.</span></span><br />\n<br />\n<br />\n<strong><span style="font-size:18px\;"><span style="font-size:16px\;">This event is hosted by the&nbsp\;Prattville Area of Chamber of Commerce in partnership with the City of Prattville and Southern Bite\, with support from the Autauga County Commission.&nbsp\;</span></span></strong><br />\n<br />\n<u><span style="font-size:26px\;"><strong><a href="https://prattvillechamber.chambermaster.com/eventregistration/register/2266">Click here to&nbsp\;</a></strong></span></u><a href="https://prattvillechamber.chambermaster.com/eventregistration/register/2266"><u><span style="font-size:26px\;"><strong>get on the waiting list!</strong></span></u></a></div>\n
LOCATION:
UID:e.1954.2266
SEQUENCE:3
DTSTAMP:20260422T183053Z
URL:https://online.prattvillechamber.com/events/details/dinner-in-the-district-2025-2266
END:VEVENT

END:VCALENDAR
