BEGIN:VCALENDAR
VERSION:2.0
PRODID:-//ChamberMaster//Event Calendar 2.0//EN
METHOD:PUBLISH
X-PUBLISHED-TTL:P3D
REFRESH-INTERVAL:P3D
CALSCALE:GREGORIAN
BEGIN:VEVENT
DTSTART:20230606T123000Z
DTEND:20230606T133000Z
X-MICROSOFT-CDO-ALLDAYEVENT:FALSE
SUMMARY:Coffee Connection - Springhill Suites
DESCRIPTION:Join us for a Business Mixer Before Hours event on June 6th!\n\n\n\nBusiness Mixer Before Hours\n\nsponsored by\n\nSpringhill Suites\n\nTuesday\, June 6th\, 2023\n\n7:30 - 8:30 a.m.\n\nBusiness Before Hours events are highly-regarded as an excellent networking opportunities\, offering guests the chance to meet people representing products and services in a relaxed\, social setting.\n\n\n\nPeople do business with people they know\, so come meet and mingle with fellow members. Bring a stack of business cards!
X-ALT-DESC;FMTTYPE=text/html:<p><span style="font-family: tahoma\;"><span style="font-size: 12px\;"><span style="color: rgb(51\, 51\, 51)\;">Join us for a&nbsp\;Business Mixer&nbsp\;Before Hours event on June 6th!</span><br />\n<br />\n<strong><span style="color: rgb(51\, 51\, 51)\;">Business&nbsp\;Mixer Before Hours</span></strong><br />\n<em><span style="color: rgb(51\, 51\, 51)\;">sponsored by</span></em><br />\n<strong>Springhill Suites</strong><br />\n<span style="color: rgb(51\, 51\, 51)\;">Tuesday\, June 6th\,&nbsp\;2023<br />\n7:30 - 8:30 a.m.</span></span></span></p>\n\n<p><span style="font-family: tahoma\;"><span style="font-size: 12px\;"><span style="color: rgb(51\, 51\, 51)\;">Business Before Hours events are highly-regarded as an excellent networking opportunities\,&nbsp\;offering&nbsp\;guests the chance to meet people representing products and services in a relaxed\, social setting.</span><br />\n<br />\n<span style="color: rgb(51\, 51\, 51)\;">People do business with people they know\, so come meet and mingle with fellow members. Bring a stack of business cards!</span></span></span><br />\n<br />\n<br />\n<br />\n<br />\n<br />\n&nbsp\;</p>\n
LOCATION:100 Hospitality Lane\, Millbrook\, Alabama\, USA\, 36054
UID:e.1954.2072
SEQUENCE:3
DTSTAMP:20260421T102737Z
URL:https://online.prattvillechamber.com/events/details/coffee-connection-springhill-suites-2072
END:VEVENT

END:VCALENDAR
